BEGIN:VCALENDAR
VERSION:2.0
PRODID:-//HRC - ECPv6.2.7//NONSGML v1.0//EN
CALSCALE:GREGORIAN
METHOD:PUBLISH
X-ORIGINAL-URL:https://hrcigroup.com
X-WR-CALDESC:Eventi per HRC
REFRESH-INTERVAL;VALUE=DURATION:PT1H
X-Robots-Tag:noindex
X-PUBLISHED-TTL:PT1H
BEGIN:VTIMEZONE
TZID:Europe/Rome
BEGIN:DAYLIGHT
TZOFFSETFROM:+0100
TZOFFSETTO:+0200
TZNAME:CEST
DTSTART:20220327T010000
END:DAYLIGHT
BEGIN:STANDARD
TZOFFSETFROM:+0200
TZOFFSETTO:+0100
TZNAME:CET
DTSTART:20221030T010000
END:STANDARD
END:VTIMEZONE
BEGIN:VEVENT
DTSTART;TZID=Europe/Rome:20221005T100000
DTEND;TZID=Europe/Rome:20221005T110000
DTSTAMP:20260422T073716
CREATED:20220331T160107Z
LAST-MODIFIED:20221005T230504Z
UID:2032-1664964000-1664967600@hrcigroup.com
SUMMARY:LEARNING SQUARE - QUALI SONO I NUOVI PROCESSI PER MARKETING & SALES?
DESCRIPTION:Quando si allinea il team marketing con la forza vendite\, si ottengono due aree aziendali che lavorano in sinergia. Non più singoli team che concorrono alla crescita aziendale\, ma due funzioni aziendali che vivono e si sviluppano tramite la condivisione di metodologie\, conoscenze e tecnologie. ??Per rispondere efficacemente alle sfide imposte dal contesto attuale\, le imprese possono riorganizzare i propri team\, favorendo il lavoro sinergico e selezionando professionisti capaci di sviluppare nuove strategie adatte a favorire il cambiamento ordinato dei processi interni all’impresa. ?GAETANO DI GIUSEPPE Business Development Manager DIGITAL DICTIONARY \nREGISTRATI
URL:https://hrcigroup.com/evento/learning-square-quali-sono-i-nuovi-processi-per-marketing-sales/
CATEGORIES:LS
ATTACH;FMTTYPE=image/jpeg:https://hrcigroup.com/wp-content/uploads/2022/03/600x600-5-ottobre.jpg
END:VEVENT
BEGIN:VEVENT
DTSTART;TZID=Europe/Rome:20221005T150000
DTEND;TZID=Europe/Rome:20221005T163000
DTSTAMP:20260422T073716
CREATED:20180523T105317Z
LAST-MODIFIED:20221005T230505Z
UID:2057-1664982000-1664987400@hrcigroup.com
SUMMARY:COME ATTRARRE IL CANDIDATO GIUSTO
DESCRIPTION:COME ATTRARRE IL CANDIDATO GIUSTOTechnical partner:Dario D’Odorico CLEVERCONNECT ITALIA \nElia Fregola ELAISIANDonatella Quattrin A2ALaura Galiano ZENITH SERVICESChiara Berardino AUBAY \nREGISTRATI
URL:https://hrcigroup.com/evento/come-attrarre-il-candidato-giusto/
ATTACH;FMTTYPE=image/jpeg:https://hrcigroup.com/wp-content/uploads/2018/05/HRCsquare_20221005_S.jpg
END:VEVENT
BEGIN:VEVENT
DTSTART;TZID=Europe/Rome:20221005T160000
DTEND;TZID=Europe/Rome:20221005T173000
DTSTAMP:20260422T073716
CREATED:20220317T015135Z
LAST-MODIFIED:20221005T230505Z
UID:1822-1664985600-1664991000@hrcigroup.com
SUMMARY:INTERNATIONAL HRD SQUARE -AMPLIFYING YOUR EMPLOYER BRAND ON SOCIAL MEDIA
DESCRIPTION:AMPLIFYING YOUR EMPLOYER BRAND ON SOCIAL MEDIATOP SPEAKER OF THE DAY:Olga Barroso EUROP ASSISTANCE  \nSPEAKERS: Jonathan Berlan UCBJavier Vidaurreta Herrera WPP  Paul Ngugi GREENPEACE AFRICA Gabriel Leal ICONN Jake Bustos COCA-COLA COMPANY Catherine Adenle ELSEVIER  \nREGISTRATI
URL:https://hrcigroup.com/evento/international-hrd-square-amplifying-your-employer-brand-on-social-media/
CATEGORIES:HRD_INTERNATIONAL
ATTACH;FMTTYPE=image/jpeg:https://hrcigroup.com/wp-content/uploads/2022/03/Olga-Barroso_600x600-speaker-OK_5.10-323.jpg
END:VEVENT
BEGIN:VEVENT
DTSTART;TZID=Europe/Rome:20221005T170000
DTEND;TZID=Europe/Rome:20221005T183000
DTSTAMP:20260422T073716
CREATED:20220628T092306Z
LAST-MODIFIED:20221005T230506Z
UID:2086-1664989200-1664994600@hrcigroup.com
SUMMARY:AMBIENTE DI LAVORO AUTENTICO E SANO: QUALI I PRESUPPOSTI E GLI INGREDIENTI DOPO UNA FASE DI TRASFORMAZIONE IMPORTANTE
DESCRIPTION:AMBIENTE DI LAVORO AUTENTICO E SANO: QUALI I PRESUPPOSTI E GLI INGREDIENTI DOPO UNA FASE DI TRASFORMAZIONE IMPORTANTEGuida i lavori:Marco Mossuto LINDT & SPRÜNGLI ITALIA \nTeam di Presidenza:Marta Guidarelli CAMPARICecilia Exacoustos AON H&BIvan Livoni TRELLEBORG WHEEL SYSTEMSFabiola Iacobucci ROMA METROPOLITANERoberto Zecchino BOSCHMassimo Galeazzi MENARINI Alida Marcandalli THE KRAFT HEINZ COMPANY \nREGISTRATI
URL:https://hrcigroup.com/evento/ambiente-di-lavoro-autentico-e-sano-quali-i-presupposti-e-gli-ingredienti-dopo-una-fase-di-trasformazione-importante/
CATEGORIES:HRD_SQUARE
ATTACH;FMTTYPE=image/jpeg:https://hrcigroup.com/wp-content/uploads/2022/06/HRDSquare_20221005_CS.jpg
END:VEVENT
END:VCALENDAR