BEGIN:VCALENDAR
VERSION:2.0
PRODID:-//HRC - ECPv6.2.7//NONSGML v1.0//EN
CALSCALE:GREGORIAN
METHOD:PUBLISH
X-WR-CALNAME:HRC
X-ORIGINAL-URL:https://hrcigroup.com
X-WR-CALDESC:Eventi per HRC
REFRESH-INTERVAL;VALUE=DURATION:PT1H
X-Robots-Tag:noindex
X-PUBLISHED-TTL:PT1H
BEGIN:VTIMEZONE
TZID:Europe/Rome
BEGIN:DAYLIGHT
TZOFFSETFROM:+0100
TZOFFSETTO:+0200
TZNAME:CEST
DTSTART:20220327T010000
END:DAYLIGHT
BEGIN:STANDARD
TZOFFSETFROM:+0200
TZOFFSETTO:+0100
TZNAME:CET
DTSTART:20221030T010000
END:STANDARD
END:VTIMEZONE
BEGIN:VEVENT
DTSTART;TZID=Europe/Rome:20221006T100000
DTEND;TZID=Europe/Rome:20221006T110000
DTSTAMP:20260423T003914
CREATED:20220331T160109Z
LAST-MODIFIED:20221006T230502Z
UID:2033-1665050400-1665054000@hrcigroup.com
SUMMARY:LEARNING SQUARE - SALES ENABLEMENT: UNA STRATEGIA DI CONTENUTO CONDIVISA
DESCRIPTION:Il Sales Enablement è un processo che sta alla base dell’allineamento tra i team marketing e sales\, e consiste nel fornire al team di vendita tutti i materiali di cui ha bisogno per generare lead in modo più efficiente ed efficace. Può trattarsi\, ad esempio\, di strumenti tecnologici e competenze da sviluppare. All’interno di questa dinamica\, il Sales Enablement Content è il contenuto sviluppato da – o per – il team sales\, per essere più incisivo nelle proprie attività e per accompagnare meglio i potenziali clienti in tutte le fasi del buyer’s journey. E-mail\, brochure di prodotto\, presentazioni o pagine sul sito ufficiale\, demo e blog post… tutto il materiale prodotto per la vendita può essere definito Sales Enablement Content.GAETANO DI GIUSEPPE Business Development Manager DIGITAL DICTIONARY \nREGISTRATI
URL:https://hrcigroup.com/evento/learning-square-sales-enablement-una-strategia-di-contenuto-condivisa/
CATEGORIES:LS
ATTACH;FMTTYPE=image/jpeg:https://hrcigroup.com/wp-content/uploads/2022/03/600x600-6-ottobre.jpg
END:VEVENT
BEGIN:VEVENT
DTSTART;TZID=Europe/Rome:20221006T150000
DTEND;TZID=Europe/Rome:20221006T163000
DTSTAMP:20260423T003914
CREATED:20180523T105733Z
LAST-MODIFIED:20221006T230502Z
UID:2065-1665068400-1665073800@hrcigroup.com
SUMMARY:FEEDBACK\, COUNSELING\, ASCOLTO
DESCRIPTION:FEEDBACK\, COUNSELING\, ASCOLTOTechnical partner:Katia D’Amico e Gaetano Di Giuseppe DIGITAL DICTIONARY \nFederica Spadini STMICROELECTRONICSSara Camerlo BITRONAnnarita PalmieriMonica Delle Cave AUTOGRILL \nREGISTRATI
URL:https://hrcigroup.com/evento/feedback-counseling-ascolto/
ATTACH;FMTTYPE=image/jpeg:https://hrcigroup.com/wp-content/uploads/2018/05/HRCsquare_20221006_S.jpg
END:VEVENT
BEGIN:VEVENT
DTSTART;TZID=Europe/Rome:20221006T160000
DTEND;TZID=Europe/Rome:20221006T173000
DTSTAMP:20260423T003914
CREATED:20220317T015136Z
LAST-MODIFIED:20221006T230503Z
UID:1823-1665072000-1665077400@hrcigroup.com
SUMMARY:INTERNATIONAL HRD SQUARE - PSYCHOPHYSICAL WELLBEING IN THE NEW ERA
DESCRIPTION:PSYCHOPHYSICAL WELLBEING IN THE NEW ERATOP SPEAKER OF THE DAY:Maurizio Sarecchia ENEL \nSPEAKERS: Hena Jawaid JIMDO Julian Troian ING LUXEMBOURGFernando Andreotti Vaz HYUNDAI MOTORIyas Seidan JTISara Jakobsen ZIMPLER  \nREGISTRATI
URL:https://hrcigroup.com/evento/international-hrd-square-psychophysical-wellbeing-in-the-new-era/
CATEGORIES:HRD_INTERNATIONAL
ATTACH;FMTTYPE=image/jpeg:https://hrcigroup.com/wp-content/uploads/2022/03/Maurizio-Sarecchia-600x600-speaker-OK-346.jpg
END:VEVENT
BEGIN:VEVENT
DTSTART;TZID=Europe/Rome:20221006T170000
DTEND;TZID=Europe/Rome:20221006T183000
DTSTAMP:20260423T003914
CREATED:20180528T104150Z
LAST-MODIFIED:20221006T230504Z
UID:2087-1665075600-1665081000@hrcigroup.com
SUMMARY:INTEGRAZIONE E ARMONIZZAZIONE: QUALI GLI ELEMENTI INDISPENSABILI\, DALLE HARD ALLE SOFT SKILLS HR
DESCRIPTION:INTEGRAZIONE E ARMONIZZAZIONE: QUALI GLI ELEMENTI INDISPENSABILI\, DALLE HARD ALLE SOFT SKILLS HRGuida i lavori:Marco Mossuto LINDT & SPRÜNGLI ITALIA \nTeam di Presidenza:Biancamaria Cavallini MINDWORK Fedora Gasperini LEO PHARMAChiara Cacchi SPORT E SALUTEEmanuele Odazio MANPOWERMelanie Gschwenter LOACKERFausto Fusco BIPAndrea Cavallotti EXPRIVIARossana Cantù TEVA PHARMACEUTICALS \nREGISTRATI
URL:https://hrcigroup.com/evento/integrazione-e-armonizzazione-quali-gli-elementi-indispensabili-dalle-hard-alle-soft-skills-hr/
CATEGORIES:HRD_SQUARE
ATTACH;FMTTYPE=image/jpeg:https://hrcigroup.com/wp-content/uploads/2018/05/HRDSquare_20221020_CS-2405.jpg
END:VEVENT
END:VCALENDAR