BEGIN:VCALENDAR
VERSION:2.0
PRODID:-//HRC - ECPv6.2.7//NONSGML v1.0//EN
CALSCALE:GREGORIAN
METHOD:PUBLISH
X-ORIGINAL-URL:https://hrcigroup.com
X-WR-CALDESC:Eventi per HRC
REFRESH-INTERVAL;VALUE=DURATION:PT1H
X-Robots-Tag:noindex
X-PUBLISHED-TTL:PT1H
BEGIN:VTIMEZONE
TZID:Europe/Rome
BEGIN:DAYLIGHT
TZOFFSETFROM:+0100
TZOFFSETTO:+0200
TZNAME:CEST
DTSTART:20220327T010000
END:DAYLIGHT
BEGIN:STANDARD
TZOFFSETFROM:+0200
TZOFFSETTO:+0100
TZNAME:CET
DTSTART:20221030T010000
END:STANDARD
END:VTIMEZONE
BEGIN:VEVENT
DTSTART;TZID=Europe/Rome:20221011T100000
DTEND;TZID=Europe/Rome:20221011T110000
DTSTAMP:20260423T064929
CREATED:20220317T015139Z
LAST-MODIFIED:20221011T230539Z
UID:1986-1665482400-1665486000@hrcigroup.com
SUMMARY:LEARNING SQUARE - WELL BEING: MENTAL HEALTH IN THE WORK PLACE
DESCRIPTION:Il workshop intende riflettere su come le organizzazioni stiano integrando le tecnologie nelle pratiche lavorative. Cosa deve fare l’uomo? Quali compiti dobbiamo lasciare alle macchine?\nRecenti studi ci aiutano a prendere consapevolezza dei numerosi cambiamenti nel modo in cui le persone imparano e sviluppano le competenze in ambito professionale (ex. memoria\, concentrazione\, generazione di idee\, …)\n– Approfondire la definizione di Employee Experience post Covid\n– Comprendere il concetto di Being smart about smart working\n– Introdurre I processi cognitivi in riferimento alla digitalizzazioneCHIARA SUCCI Associate Professor of Management ESCP \nREGISTRATI
URL:https://hrcigroup.com/evento/learning-square-well-being-mental-health-in-the-work-place/
CATEGORIES:LS
ATTACH;FMTTYPE=image/jpeg:https://hrcigroup.com/wp-content/uploads/2022/03/600x600-11-ottobre.jpg
END:VEVENT
BEGIN:VEVENT
DTSTART;TZID=Europe/Rome:20221011T150000
DTEND;TZID=Europe/Rome:20221011T163000
DTSTAMP:20260423T064929
CREATED:20220628T092314Z
LAST-MODIFIED:20221011T230539Z
UID:2050-1665500400-1665505800@hrcigroup.com
SUMMARY:RENDERE I PIANI DI WELFARE EFFICACI PER IL BENESSERE INDIVIDUALE
DESCRIPTION:RENDERE I PIANI DI WELFARE EFFICACI PER IL BENESSERE INDIVIDUALETechnical partner:Giulia Dalla Nora DOUBLE YOU \nArianna Conca CHIESI FARMACEUTICIClaudia Chiaraluce UNICREDITSalvatore Tombola ENEL ITALIA \nREGISTRATI
URL:https://hrcigroup.com/evento/rendere-i-piani-di-welfare-efficaci-per-il-benessere-individuale/
CATEGORIES:HRC_SQUARE_COMM
ATTACH;FMTTYPE=image/jpeg:https://hrcigroup.com/wp-content/uploads/2022/06/HRCsquare_20221011_S.jpg
END:VEVENT
BEGIN:VEVENT
DTSTART;TZID=Europe/Rome:20221011T150000
DTEND;TZID=Europe/Rome:20221011T163000
DTSTAMP:20260423T064929
CREATED:20221003T110533Z
LAST-MODIFIED:20221011T230539Z
UID:2376-1665500400-1665505800@hrcigroup.com
SUMMARY:RENDERE I PIANI DI WELFARE EFFICACI PER IL BENESSERE INDIVIDUALE
DESCRIPTION:RENDERE I PIANI DI WELFARE EFFICACI PER IL BENESSERE INDIVIDUALETechnical partner:Giulia Dalla Nora DOUBLE YOU \nSpeaker:Arianna Conca CHIESI FARMACEUTICISalvatore Tombola ENEL ITALIAClaudia Chiaraluce UNICREDITSimona Piva FINDOMESTIC \nREGISTRATI
URL:https://hrcigroup.com/evento/rendere-i-piani-di-welfare-efficaci-per-il-benessere-individuale-2/
CATEGORIES:HRC_SQUARE_COMM
ATTACH;FMTTYPE=image/jpeg:https://hrcigroup.com/wp-content/uploads/2022/10/HRCsquare_20221011_S.jpg
END:VEVENT
BEGIN:VEVENT
DTSTART;TZID=Europe/Rome:20221011T170000
DTEND;TZID=Europe/Rome:20221011T183000
DTSTAMP:20260423T064929
CREATED:20220628T092315Z
LAST-MODIFIED:20221011T230539Z
UID:2089-1665507600-1665513000@hrcigroup.com
SUMMARY:IT’S MY LIFE: LA NUOVA SFIDA TRA EMPLOYABILITY E PERSONAL WELL-BEING
DESCRIPTION:IT’S MY LIFE: LA NUOVA SFIDA TRA EMPLOYABILITY E PERSONAL WELL-BEINGGuida i lavori: Emiliano Maria Cappuccitti COCA-COLA HBC ITALIA  \nTeam di presidenza: Davide Boffi DENTONS Federico Scarsi DELIVEROOGianluca Rossi DHL SUPPLY CHAINGioia Ferrario JAKALAErnesto Martinelli ENELDaniela Sorrentino CELLULARLINEMaria Grazia Bizzarri ITALIAONLINE \nREGISTRATI
URL:https://hrcigroup.com/evento/its-my-life-la-nuova-sfida-tra-employability-e-personal-well-being-2/
CATEGORIES:HRD_SQUARE
ATTACH;FMTTYPE=image/jpeg:https://hrcigroup.com/wp-content/uploads/2022/06/HRDSquare_20221011_CS.jpg
END:VEVENT
END:VCALENDAR