BEGIN:VCALENDAR
VERSION:2.0
PRODID:-//HRC - ECPv6.2.7//NONSGML v1.0//EN
CALSCALE:GREGORIAN
METHOD:PUBLISH
X-ORIGINAL-URL:https://hrcigroup.com
X-WR-CALDESC:Eventi per HRC
REFRESH-INTERVAL;VALUE=DURATION:PT1H
X-Robots-Tag:noindex
X-PUBLISHED-TTL:PT1H
BEGIN:VTIMEZONE
TZID:Europe/Rome
BEGIN:DAYLIGHT
TZOFFSETFROM:+0100
TZOFFSETTO:+0200
TZNAME:CEST
DTSTART:20220327T010000
END:DAYLIGHT
BEGIN:STANDARD
TZOFFSETFROM:+0200
TZOFFSETTO:+0100
TZNAME:CET
DTSTART:20221030T010000
END:STANDARD
END:VTIMEZONE
BEGIN:VEVENT
DTSTART;TZID=Europe/Rome:20221020T150000
DTEND;TZID=Europe/Rome:20221020T163000
DTSTAMP:20260423T071017
CREATED:20220628T092331Z
LAST-MODIFIED:20221020T230500Z
UID:2051-1666278000-1666283400@hrcigroup.com
SUMMARY:COME MIGLIORARE L'ENGAGEMENT DEI DIPENDENTI VERSO LE PIATTAFORME DIGITAL DI FORMAZIONE
DESCRIPTION:COME MIGLIORARE L’ENGAGEMENT DEI DIPENDENTI VERSO LE PIATTAFORME DIGITAL DI FORMAZIONETechnical partner:Giovanni Gentile GOODHABITZ \nRita Contento TAKEDAAnna Carollo MAZARSGiulia Grendele COVISIAN \nREGISTRATI
URL:https://hrcigroup.com/evento/come-migliorare-lengagement-dei-dipendenti-verso-le-piattaforme-digital-di-formazione/
CATEGORIES:HRC_SQUARE_LEARNING
ATTACH;FMTTYPE=image/jpeg:https://hrcigroup.com/wp-content/uploads/2022/06/HRCsquare_20221020_S.jpg
END:VEVENT
BEGIN:VEVENT
DTSTART;TZID=Europe/Rome:20221020T160000
DTEND;TZID=Europe/Rome:20221020T173000
DTSTAMP:20260423T071017
CREATED:20220628T092332Z
LAST-MODIFIED:20220729T070527Z
UID:2145-1666281600-1666287000@hrcigroup.com
SUMMARY:INTERNATIONAL HRD SQUARE SPECIAL EDITION - A NEW CHAPTER FOR THE WORLD OF WORK
DESCRIPTION:INTERNATIONAL HRD SQUARE SPECIAL EDITION – A NEW CHAPTER FOR THE WORLD OF WORKTOP SPEAKER OF THE DAY:Michael A. Piker FLUTTER ENTERTAINMENT \nSPEAKERS: \nREGISTRATI
URL:https://hrcigroup.com/evento/international-hrd-square-special-edition-a-new-chapter-for-the-world-of-work/
CATEGORIES:HRD_INTERNATIONAL
ATTACH;FMTTYPE=image/jpeg:https://hrcigroup.com/wp-content/uploads/2022/06/HRDSquareINT_20220215__CS.jpg
END:VEVENT
BEGIN:VEVENT
DTSTART;TZID=Europe/Rome:20221020T170000
DTEND;TZID=Europe/Rome:20221020T183000
DTSTAMP:20260423T071017
CREATED:20180528T104150Z
LAST-MODIFIED:20221020T230500Z
UID:2094-1666285200-1666290600@hrcigroup.com
SUMMARY:TECNOLOGIA E SPAZI: COME STIAMO DISEGNANDO LA NUOVA ESPERIENZA DI LAVORO
DESCRIPTION:TECNOLOGIA E SPAZI: COME STIAMO DISEGNANDO LA NUOVA ESPERIENZA DI LAVOROGuida i lavori: Ruggero Rabaglia BARILLA \nTeam di presidenza:Lorenza Pellegrini EDENRED Elisabetta Maiocchi BERLIN PACKAGING ITALY Giulio Natali FATER GROUPAndrea Cavallotti EXPRIVIAMarco Antonelli ALLIANZ TRADE ITALIA \nREGISTRATI
URL:https://hrcigroup.com/evento/tecnologia-e-spazi-come-stiamo-disegnando-la-nuova-esperienza-di-lavoro/
CATEGORIES:HRD_SQUARE
ATTACH;FMTTYPE=image/jpeg:https://hrcigroup.com/wp-content/uploads/2018/05/HRDSquare_20221020_CS-2405.jpg
END:VEVENT
END:VCALENDAR