BEGIN:VCALENDAR
VERSION:2.0
PRODID:-//HRC - ECPv6.2.7//NONSGML v1.0//EN
CALSCALE:GREGORIAN
METHOD:PUBLISH
X-ORIGINAL-URL:https://hrcigroup.com
X-WR-CALDESC:Eventi per HRC
REFRESH-INTERVAL;VALUE=DURATION:PT1H
X-Robots-Tag:noindex
X-PUBLISHED-TTL:PT1H
BEGIN:VTIMEZONE
TZID:Europe/Rome
BEGIN:DAYLIGHT
TZOFFSETFROM:+0100
TZOFFSETTO:+0200
TZNAME:CEST
DTSTART:20220327T010000
END:DAYLIGHT
BEGIN:STANDARD
TZOFFSETFROM:+0200
TZOFFSETTO:+0100
TZNAME:CET
DTSTART:20221030T010000
END:STANDARD
END:VTIMEZONE
BEGIN:VEVENT
DTSTART;TZID=Europe/Rome:20221027T100000
DTEND;TZID=Europe/Rome:20221027T110000
DTSTAMP:20260421T114018
CREATED:20220317T015151Z
LAST-MODIFIED:20221027T230459Z
UID:1996-1666864800-1666868400@hrcigroup.com
SUMMARY:LEARNING SQUARE - PERSONA & INNOVAZIONE: EDUCARE ALL’INNOVAZIONE
DESCRIPTION:Come abilitare il pensiero creativo nel singolo e fare in modo che diventi un processo sistemico a beneficio di tutti? Perché l’innovazione non è un processo individuale\, ma funziona se alimentato dall’intelligenza collettiva? Basi di creatività\, collaborazione\, leadership e facilitazione\, per comprendere il profilo del nuovo dipendente (innovatore) in azienda.MICHELE DI BLASIO CEO & Docente di Startup Culture LACERBA.IO \nREGISTRATI
URL:https://hrcigroup.com/evento/learning-square-persona-innovazione-educare-allinnovazione/
CATEGORIES:LS
ATTACH;FMTTYPE=image/jpeg:https://hrcigroup.com/wp-content/uploads/2022/03/600x600-27-ottobre.jpg
END:VEVENT
BEGIN:VEVENT
DTSTART;TZID=Europe/Rome:20221027T150000
DTEND;TZID=Europe/Rome:20221027T163000
DTSTAMP:20260421T114018
CREATED:20220628T092343Z
LAST-MODIFIED:20221027T230500Z
UID:2052-1666882800-1666888200@hrcigroup.com
SUMMARY:CO-CREAZIONI DEI PERCORSI DI FORMAZIONE
DESCRIPTION:CO-CREAZIONI DEI PERCORSI DI FORMAZIONEMassimiliano Fiorelli MODULALuca Lorenzini VITTORIA ASSICURAZIONELaura Bosser MAPEIElisa Tosoncin MAPEIClaudio Di Stefano ALD Automotive \nREGISTRATI
URL:https://hrcigroup.com/evento/co-creazioni-dei-percorsi-di-formazione/
CATEGORIES:HRC_SQUARE_LEARNING
ATTACH;FMTTYPE=image/jpeg:https://hrcigroup.com/wp-content/uploads/2022/06/HRCsquare_20221027_S.jpg
END:VEVENT
BEGIN:VEVENT
DTSTART;TZID=Europe/Rome:20221027T170000
DTEND;TZID=Europe/Rome:20221027T183000
DTSTAMP:20260421T114018
CREATED:20180528T104944Z
LAST-MODIFIED:20221027T230500Z
UID:2097-1666890000-1666895400@hrcigroup.com
SUMMARY:D&I E SOSTENIBILITÀ: COME VALORIZZARE LE DIVERSITÀ ATTRAVERSO LA CULTURAL INTEGRATION
DESCRIPTION:D&I E SOSTENIBILITÀ: COME VALORIZZARE LE DIVERSITÀ ATTRAVERSO LA CULTURAL INTEGRATION\nGuida i lavori:Maria Francesca Fabris NEXI \nTeam di presidenza: Gianni Airoldi GORIGiuseppina Falcucci LOTTOMATICABiancamaria Cavallini MINDWORK Alessandro Agosti FINDOMESTIC BANCAAnna Torri STARBUCKSEleonora Nardini CISCO  \nREGISTRATI
URL:https://hrcigroup.com/evento/di-e-sostenibilita-come-valorizzare-le-diversita-attraverso-la-cultural-integration/
CATEGORIES:HRD_SQUARE
ATTACH;FMTTYPE=image/jpeg:https://hrcigroup.com/wp-content/uploads/2018/05/HRDSquare_20221123_CS-55.jpg
END:VEVENT
END:VCALENDAR