BEGIN:VCALENDAR
VERSION:2.0
PRODID:-//HRC - ECPv6.2.7//NONSGML v1.0//EN
CALSCALE:GREGORIAN
METHOD:PUBLISH
X-ORIGINAL-URL:https://hrcigroup.com
X-WR-CALDESC:Eventi per HRC
REFRESH-INTERVAL;VALUE=DURATION:PT1H
X-Robots-Tag:noindex
X-PUBLISHED-TTL:PT1H
BEGIN:VTIMEZONE
TZID:Europe/Rome
BEGIN:DAYLIGHT
TZOFFSETFROM:+0100
TZOFFSETTO:+0200
TZNAME:CEST
DTSTART:20240331T010000
END:DAYLIGHT
BEGIN:STANDARD
TZOFFSETFROM:+0200
TZOFFSETTO:+0100
TZNAME:CET
DTSTART:20241027T010000
END:STANDARD
END:VTIMEZONE
BEGIN:VEVENT
DTSTART;TZID=Europe/Rome:20241007T100000
DTEND;TZID=Europe/Rome:20241007T110000
DTSTAMP:20260420T223120
CREATED:20240422T105436Z
LAST-MODIFIED:20241007T235428Z
UID:2887-1728295200-1728298800@hrcigroup.com
SUMMARY:IL PURPOSE: UNA LEVA STRATEGICA PER GUIDARE LA TOTAL EXPERIENCE
DESCRIPTION:Il Purpose aziendale rappresenta la ragione di esistenza di un’organizzazione\, un aspetto che a nostro avviso non è solo etico ma anche\, sempre di più\, una guida e un driver strategico delle scelte compiute dalle aziende.\nA partire dalla ricerca avviata da OpenKnowledge nel 2023 sul tema\, la sessione esplorerà le dinamiche di generazione e influenza del purpose aziendale e le modalità e i canali attraverso i quali esso si esprime per consentire l’ottimizzazione della Total Experience. \nREGISTRATI
URL:https://hrcigroup.com/evento/il-purpose-una-leva-strategica-per-guidare-la-total-experience/
CATEGORIES:LS
ATTACH;FMTTYPE=image/png:https://hrcigroup.com/wp-content/uploads/2024/04/LS_20241007.png
END:VEVENT
BEGIN:VEVENT
DTSTART;TZID=Europe/Rome:20241007T150000
DTEND;TZID=Europe/Rome:20241007T163000
DTSTAMP:20260420T223120
CREATED:20240521T165450Z
LAST-MODIFIED:20241007T235428Z
UID:2948-1728313200-1728318600@hrcigroup.com
SUMMARY:Total reward generazionale
DESCRIPTION:Total reward generazionaleTeam di lavoro:Giulia Farioli AngeliniAnnunziata Rispoli HuaweiAlessia Bugiardini Fidia FarmaceuticiPaola Cannarile Gi GroupAndrea Catania DoubleYou \nREGISTRATI
URL:https://hrcigroup.com/evento/total-reward-generazionale/
CATEGORIES:HRC_SQUARE_PERFORMANCE_REWARDS
ATTACH;FMTTYPE=image/jpeg:https://hrcigroup.com/wp-content/uploads/2024/05/HRCsquare_20241007-scaled.jpg
END:VEVENT
END:VCALENDAR