BEGIN:VCALENDAR
VERSION:2.0
PRODID:-//HRC - ECPv6.2.7//NONSGML v1.0//EN
CALSCALE:GREGORIAN
METHOD:PUBLISH
X-ORIGINAL-URL:https://hrcigroup.com
X-WR-CALDESC:Eventi per HRC
REFRESH-INTERVAL;VALUE=DURATION:PT1H
X-Robots-Tag:noindex
X-PUBLISHED-TTL:PT1H
BEGIN:VTIMEZONE
TZID:Europe/Rome
BEGIN:DAYLIGHT
TZOFFSETFROM:+0100
TZOFFSETTO:+0200
TZNAME:CEST
DTSTART:20250330T010000
END:DAYLIGHT
BEGIN:STANDARD
TZOFFSETFROM:+0200
TZOFFSETTO:+0100
TZNAME:CET
DTSTART:20251026T010000
END:STANDARD
END:VTIMEZONE
BEGIN:VEVENT
DTSTART;TZID=Europe/Rome:20250224T100000
DTEND;TZID=Europe/Rome:20250224T110000
DTSTAMP:20260425T194217
CREATED:20241203T155402Z
LAST-MODIFIED:20250224T235343Z
UID:3128-1740391200-1740394800@hrcigroup.com
SUMMARY:Growing Your Network One Conversation at a Time
DESCRIPTION:Building a strong professional network is essential for career growth\, but starting conversations with new people can be challenging. This workshop will equip you with practical expressions and techniques for effective small talk. We will explore appropriate topics for business settings\, how to keep conversations going\, and strategies for navigating difficult subjects. You will also learn how to introduce others into a conversation smoothly and how to end interactions politely.Trainer: Judith Hudson\, Business English Trainer\, My English School \nREGISTRATI
URL:https://hrcigroup.com/evento/growing-your-network-one-conversation-at-a-time/
CATEGORIES:LS
ATTACH;FMTTYPE=image/jpeg:https://hrcigroup.com/wp-content/uploads/2024/12/LS_20250224.jpg
END:VEVENT
BEGIN:VEVENT
DTSTART;TZID=Europe/Rome:20250224T150000
DTEND;TZID=Europe/Rome:20250224T163000
DTSTAMP:20260425T194217
CREATED:20240806T145358Z
LAST-MODIFIED:20250224T235354Z
UID:3039-1740409200-1740414600@hrcigroup.com
SUMMARY:Non solo compensation: strumenti non monetari di recognition
DESCRIPTION:Non solo compensation: strumenti non monetari di recognitionTeam di lavoro:Annunziata Rispoli HuaweiLuca Biancucci ClementoniAltea Selva Zeta ServiceDaniela Ivaldi Eudaimon \nREGISTRATI
URL:https://hrcigroup.com/evento/non-solo-compensation-strumenti-non-monetari-di-recognition/
CATEGORIES:HRC_SQUARE_PERFORMANCE_REWARDS
ATTACH;FMTTYPE=image/jpeg:https://hrcigroup.com/wp-content/uploads/2024/08/HRCsquare_20250224.jpg
END:VEVENT
END:VCALENDAR