BEGIN:VCALENDAR
VERSION:2.0
PRODID:-//HRC - ECPv6.2.7//NONSGML v1.0//EN
CALSCALE:GREGORIAN
METHOD:PUBLISH
X-ORIGINAL-URL:https://hrcigroup.com
X-WR-CALDESC:Eventi per HRC
REFRESH-INTERVAL;VALUE=DURATION:PT1H
X-Robots-Tag:noindex
X-PUBLISHED-TTL:PT1H
BEGIN:VTIMEZONE
TZID:Europe/Rome
BEGIN:DAYLIGHT
TZOFFSETFROM:+0100
TZOFFSETTO:+0200
TZNAME:CEST
DTSTART:20250330T010000
END:DAYLIGHT
BEGIN:STANDARD
TZOFFSETFROM:+0200
TZOFFSETTO:+0100
TZNAME:CET
DTSTART:20251026T010000
END:STANDARD
END:VTIMEZONE
BEGIN:VEVENT
DTSTART;TZID=Europe/Rome:20250407T100000
DTEND;TZID=Europe/Rome:20250407T110000
DTSTAMP:20260423T163546
CREATED:20241202T165346Z
LAST-MODIFIED:20250317T175347Z
UID:3100-1744020000-1744023600@hrcigroup.com
SUMMARY:Il neuromarketing e gli ambiti di applicazione
DESCRIPTION:Le metodologie tradizionali di marketing\, come interviste\, focus group e sondaggi\, spesso non captano le sottili dinamiche psicologiche dei consumatori. Il neuromarketing\, integrando neuroscienze e marketing\, utilizza strumenti avanzati per analizzare le reazioni inconsce dei consumatori. Questo approccio è evolutivo rispetto a modelli di ricerca consolidati perché capace di rilevare le risposte implicite\, emotive e cognitive che sono essenziali nelle decisioni di acquisto dei consumatoriTrainer: Demetrio Macheda\, CEO di OriginalSkills srl\, Direttore e docente del Master di Neuromarketing and Behavior Design del Centro Universitario Internazionale \nREGISTRATI
URL:https://hrcigroup.com/evento/il-neuromarketing-e-gli-ambiti-di-applicazione/
CATEGORIES:LS
ATTACH;FMTTYPE=image/jpeg:https://hrcigroup.com/wp-content/uploads/2024/12/LS_20250407.jpg
END:VEVENT
BEGIN:VEVENT
DTSTART;TZID=Europe/Rome:20250407T113000
DTEND;TZID=Europe/Rome:20250407T123000
DTSTAMP:20260423T163546
CREATED:20241202T165347Z
LAST-MODIFIED:20250317T175347Z
UID:3102-1744025400-1744029000@hrcigroup.com
SUMMARY:Fondamenti di DE&I per HR
DESCRIPTION:In questo primo appuntamento ci immergeremo nei fondamenti della Diversità\, Equità e Inclusione (DE&I)\, fornendo una solida base teorica e pratica per i professionisti delle risorse umane. Partiremo dalle definizioni e i concetti chiave e come essi si interconnettono per creare un ambiente di lavoro più sano e produttivo. Discuteremo come affrontare questi concetti e integrarli nella cultura aziendale influenzano positivamente il clima aziendale e l’attrazione di talentiTrainer: Arianna Giordano\, Junior Consultant\, Stimulus Italia \nREGISTRATI
URL:https://hrcigroup.com/evento/fondamenti-di-dei-per-hr/
CATEGORIES:LS
ATTACH;FMTTYPE=image/jpeg:https://hrcigroup.com/wp-content/uploads/2024/12/LS_20250407_HRSkill.jpg
END:VEVENT
BEGIN:VEVENT
DTSTART;TZID=Europe/Rome:20250407T150000
DTEND;TZID=Europe/Rome:20250407T163000
DTSTAMP:20260423T163546
CREATED:20240806T145416Z
LAST-MODIFIED:20250317T175358Z
UID:3049-1744038000-1744043400@hrcigroup.com
SUMMARY:Mobilità sostenibile: dallo sharing all'elettrico\, come ci stiamo muovendo?
DESCRIPTION:Mobilità sostenibile: dallo sharing all’elettrico\, come ci stiamo muovendo?Team di lavoro:Fabrizio Grassi FastwebGiovanna Coppini Gruppo HeraElisabetta Piantoni A2ABarbara Fegosi A2A \nREGISTRATI
URL:https://hrcigroup.com/evento/mobilita-sostenibile-dallo-sharing-allelettrico-come-ci-stiamo-muovendo/
CATEGORIES:HRC_SQUARE_PERFORMANCE_REWARDS
ATTACH;FMTTYPE=image/jpeg:https://hrcigroup.com/wp-content/uploads/2024/08/HRCsquare_20250407.jpg
END:VEVENT
END:VCALENDAR