BEGIN:VCALENDAR
VERSION:2.0
PRODID:-//HRC - ECPv6.2.7//NONSGML v1.0//EN
CALSCALE:GREGORIAN
METHOD:PUBLISH
X-WR-CALNAME:HRC
X-ORIGINAL-URL:https://hrcigroup.com
X-WR-CALDESC:Eventi per HRC
REFRESH-INTERVAL;VALUE=DURATION:PT1H
X-Robots-Tag:noindex
X-PUBLISHED-TTL:PT1H
BEGIN:VTIMEZONE
TZID:Europe/Rome
BEGIN:DAYLIGHT
TZOFFSETFROM:+0100
TZOFFSETTO:+0200
TZNAME:CEST
DTSTART:20260329T010000
END:DAYLIGHT
BEGIN:STANDARD
TZOFFSETFROM:+0200
TZOFFSETTO:+0100
TZNAME:CET
DTSTART:20261025T010000
END:STANDARD
END:VTIMEZONE
BEGIN:VEVENT
DTSTART;TZID=Europe/Rome:20260224T100000
DTEND;TZID=Europe/Rome:20260224T110000
DTSTAMP:20260422T145733
CREATED:20251007T102714Z
LAST-MODIFIED:20260224T233019Z
UID:3370-1771927200-1771930800@hrcigroup.com
SUMMARY:Come gestire efficacemente i conflitti
DESCRIPTION:In qualsiasi organizzazione i conflitti sono inevitabili\, pertanto ciò che risulta premiante è riconoscerli tempestivamente\, comprenderne le cause e trasformarli in occasioni di crescita\, gestendoli efficacemente. Gestire un conflitto richiede di certo l’abilità di problem solving\, ma\, prima ancora\, la capacità di relazionarsi e di rispettare le divergenze di vedute. Non serve imporre autorità\, ma creare ascolto\, apertura e collaborazione\, così da rafforzare fiducia e performance collettivaTrainer:  Stefano Tassone – Leadership Coach – STEFANOTASSONE – Training Coaching Consulting  \nREGISTRATI
URL:https://hrcigroup.com/evento/come-gestire-efficacemente-i-conflitti/
CATEGORIES:LS
ATTACH;FMTTYPE=image/jpeg:https://hrcigroup.com/wp-content/uploads/2025/10/LS_20260224.jpg
END:VEVENT
BEGIN:VEVENT
DTSTART;TZID=Europe/Rome:20260224T110000
DTEND;TZID=Europe/Rome:20260224T120000
DTSTAMP:20260422T145733
CREATED:20260220T100212Z
LAST-MODIFIED:20260224T233027Z
UID:3399-1771930800-1771934400@hrcigroup.com
SUMMARY:JOY: la piattaforma di Corporate Wellbeing che integra\, coinvolge e misura l’impatto
DESCRIPTION:Sapevi che solo 1 lavoratore su 10 sta bene dal punto di vista fisico\, psicologico e relazionale?  Partendo da questo dato non stupisce che solo 1 lavoratore su 4 è veramente ingaggiato al lavoro (Fonte: Ricostruire l’Engagement per affrontare le sfide HR\, Jointly e Osservatorio HR Innovation Practice del Politecnico di Milano\, 2025).\nÈ da questo scenario che nasce l’esigenza di ripensare il benessere organizzativo in modo più integrato\, misurabile e orientato all’impatto. Per questo nasce JOY\, la piattaforma di Marsh Jointly che rende il Corporate Wellbeing un’esperienza integrata e misurabile\, unificando in un unico access point servizi\, benefit e dati a supporto delle persone e delle organizzazioni.\nNel corso della Live Demo presenteremo nel dettaglio le principali funzionalità di JOY\, mostrando come supporti la comunicazione e l’engagement delle persone\, semplifichi la gestione multi-benefit e metta a disposizione Dashboard e KPI per monitorare utilizzo\, interesse e soddisfazione. \nAttraverso la demo racconteremo alcuni case studies reali e come JOY integri e valorizzi le soluzioni di Corporate Wellbeing di Marsh Jointly: dal benessere fisico e psicologico al work-life balance\, dal benessere economico al supporto alla genitorialità e ai caregiver. Concluderemo con spunti concreti per orientare in modo data-driven la strategia HR e aumentare l’impatto delle iniziative di Corporate Wellbeing. \nRelatore: Gianlorenzo Sosso | Head of Sales\, Marsh Jointly \nREGISTRATI
URL:https://hrcigroup.com/evento/joy-la-piattaforma-di-corporate-wellbeing-che-integra-coinvolge-e-misura-limpatto/
CATEGORIES:LIVE_DEMO
ATTACH;FMTTYPE=image/jpeg:https://hrcigroup.com/wp-content/uploads/2026/02/jointly.jpg
END:VEVENT
BEGIN:VEVENT
DTSTART;TZID=Europe/Rome:20260224T150000
DTEND;TZID=Europe/Rome:20260224T163000
DTSTAMP:20260422T145733
CREATED:20251007T102714Z
LAST-MODIFIED:20260224T233027Z
UID:3292-1771945200-1771950600@hrcigroup.com
SUMMARY:Welfare Inclusivo e Intergenerazionale
DESCRIPTION:Welfare Inclusivo e IntergenerazionaleTeam di lavoro:\nAngela Colombo PwC Italia\nFrancesco Chiapperini Sirti\nSimona Piva Findomestic\nGiulia Piacentino e Valerio Viglianesi Fiege\nGiovanni Scansani Bonoos \nREGISTRATI
URL:https://hrcigroup.com/evento/welfare-inclusivo-e-intergenerazionale/
CATEGORIES:HRC_SQUARE_COMM
ATTACH;FMTTYPE=image/jpeg:https://hrcigroup.com/wp-content/uploads/2025/10/HRCsquare_20260224.jpg
END:VEVENT
END:VCALENDAR