BEGIN:VCALENDAR
VERSION:2.0
PRODID:-//HRC - ECPv6.2.7//NONSGML v1.0//EN
CALSCALE:GREGORIAN
METHOD:PUBLISH
X-WR-CALNAME:HRC
X-ORIGINAL-URL:https://hrcigroup.com
X-WR-CALDESC:Eventi per HRC
REFRESH-INTERVAL;VALUE=DURATION:PT1H
X-Robots-Tag:noindex
X-PUBLISHED-TTL:PT1H
BEGIN:VTIMEZONE
TZID:Europe/Rome
BEGIN:DAYLIGHT
TZOFFSETFROM:+0100
TZOFFSETTO:+0200
TZNAME:CEST
DTSTART:20260329T010000
END:DAYLIGHT
BEGIN:STANDARD
TZOFFSETFROM:+0200
TZOFFSETTO:+0100
TZNAME:CET
DTSTART:20261025T010000
END:STANDARD
END:VTIMEZONE
BEGIN:VEVENT
DTSTART;TZID=Europe/Rome:20260305T100000
DTEND;TZID=Europe/Rome:20260305T110000
DTSTAMP:20260424T025147
CREATED:20251007T102718Z
LAST-MODIFIED:20260305T233015Z
UID:3429-1772704800-1772708400@hrcigroup.com
SUMMARY:Vivere ad un’altra velocità: se rallentare fosse l’unico modo per andare veloci?
DESCRIPTION:In un mondo che corre\, rallentare può sembrare controintuitivo. Ma è proprio nella lentezza che troviamo spazio\, respiro\, chiarezza. In questa giornata esploreremo come la scelta di un ritmo più umano non sia una rinuncia\, ma una strategia vincente per essere più efficaci\, lucidi e felici. E lo faremo con pratiche guidate che ci aiutano a riscoprire il valore del tempoTrainer: Fabio Cutrera\, CEO e Master Trainer OMM Business \nREGISTRATI
URL:https://hrcigroup.com/evento/vivere-ad-unaltra-velocita-se-rallentare-fosse-lunico-modo-per-andare-veloci/
CATEGORIES:LS
ATTACH;FMTTYPE=image/jpeg:https://hrcigroup.com/wp-content/uploads/2025/10/LS_20260305.jpg
END:VEVENT
END:VCALENDAR