BEGIN:VCALENDAR
VERSION:2.0
PRODID:-//HRC - ECPv6.2.7//NONSGML v1.0//EN
CALSCALE:GREGORIAN
METHOD:PUBLISH
X-ORIGINAL-URL:https://hrcigroup.com
X-WR-CALDESC:Eventi per HRC
REFRESH-INTERVAL;VALUE=DURATION:PT1H
X-Robots-Tag:noindex
X-PUBLISHED-TTL:PT1H
BEGIN:VTIMEZONE
TZID:Europe/Rome
BEGIN:DAYLIGHT
TZOFFSETFROM:+0100
TZOFFSETTO:+0200
TZNAME:CEST
DTSTART:20260329T010000
END:DAYLIGHT
BEGIN:STANDARD
TZOFFSETFROM:+0200
TZOFFSETTO:+0100
TZNAME:CET
DTSTART:20261025T010000
END:STANDARD
END:VTIMEZONE
BEGIN:VEVENT
DTSTART;TZID=Europe/Rome:20260416T100000
DTEND;TZID=Europe/Rome:20260416T110000
DTSTAMP:20260420T164900
CREATED:20251007T102728Z
LAST-MODIFIED:20260315T053023Z
UID:3388-1776333600-1776337200@hrcigroup.com
SUMMARY:Wellbeing\, engagement e crescita: il ruolo dell’AI nel supporto al talento diffuso
DESCRIPTION:L’AI per mappatura delle competenze\, percorsi di sviluppo\, wellbeing predittivo e career path su misura. L’AI aiuta a individuare e sviluppare talenti diffusi\, anticipare il burnout e costruire percorsi formativi personalizzati. Migliora l’engagement con soluzioni predittive e interventi mirati su benessere\, competenze e crescita professionaleTrainer: Demetrio Macheda\, CEO OriginalSkills\, Prof. Giuseppe Sartori\, Emerito dell’Università di Padova in neuropsicologia e docente computer science  \nREGISTRATI
URL:https://hrcigroup.com/evento/wellbeing-engagement-e-crescita-il-ruolo-dellai-nel-supporto-al-talento-diffuso/
CATEGORIES:LS
ATTACH;FMTTYPE=image/jpeg:https://hrcigroup.com/wp-content/uploads/2025/10/LS_20260416.jpg
END:VEVENT
BEGIN:VEVENT
DTSTART;TZID=Europe/Rome:20260416T110000
DTEND;TZID=Europe/Rome:20260416T120000
DTSTAMP:20260420T164900
CREATED:20260220T100233Z
LAST-MODIFIED:20260315T053029Z
UID:3401-1776337200-1776340800@hrcigroup.com
SUMMARY:Dalla candidatura alla decisione in 60 minuti: live recruiting experience con nCore HR
DESCRIPTION:Secondo una ricerca commissionata da nCore HR\, il 54% degli intervistati ritiene che l’integrazione tra AI e recruiter possa migliorare significativamente il processo di selezione. Tra le principali criticità emergono ancora i tempi di risposta e di feedback\, tra i punti più delicati del recruiting. A questo si aggiunge la necessità di adottare criteri più neutri e oggettivi (44%)\, capaci di valorizzare le competenze rispetto alla sola esperienza pregressa (46%).\nMa cosa significa\, concretamente\, integrare l’AI nel processo di selezione?\nE quali attività possono essere realmente automatizzate senza perdere qualità\, relazione e controllo? \nDurante l’incontro partiremo da una visione strategica sullo scenario attuale del recruiting: quanto tempo assorbono oggi le attività ripetitive? In quali fasi del processo l’automazione può generare il maggiore impatto? Attraverso i dati della ricerca nCore HR approfondiremo il tema della centralità dell’esperienza\, sia per il candidato sia per il recruiter.\nA seguire\, entreremo nel vivo con un caso reale\, mostrando passo dopo passo come sia possibile passare dalla pubblicazione di una posizione alla decisione finale in soli 60 minuti. \nAttraverso strumenti di automazione e intelligenza artificiale vedremo come:\n•	progettare un processo di candidatura personalizzato e coerente con il brand aziendale\, aumentando il coinvolgimento dei talenti;\n•	utilizzare screening automatico e ranking intelligente per individuare rapidamente i profili più in linea;\n•	gestire scheduling\, video interview e feedback in modo fluido e integrato;\n•	monitorare performance e KPI chiave per prendere decisioni realmente data-driven. \nUn’esperienza concreta e interattiva per permettere ai professionisti HR di toccare con mano come una tecnologia di nuova generazione possa trasformare l’intero flusso di selezione\, rendendolo più efficiente\, più oggettivo e più strategico.\nE arrivare\, finalmente\, al momento in cui poter dire:\n“La selezione è conclusa.” \nREGISTRATI
URL:https://hrcigroup.com/evento/dalla-candidatura-alla-decisione-in-60-minuti-live-recruiting-experience-con-ncore-hr/
CATEGORIES:LIVE_DEMO
ATTACH;FMTTYPE=image/jpeg:https://hrcigroup.com/wp-content/uploads/2026/02/generica-1.jpg
END:VEVENT
BEGIN:VEVENT
DTSTART;TZID=Europe/Rome:20260416T150000
DTEND;TZID=Europe/Rome:20260416T163000
DTSTAMP:20260420T164900
CREATED:20251007T102727Z
LAST-MODIFIED:20260315T053029Z
UID:3302-1776351600-1776357000@hrcigroup.com
SUMMARY:Concentrare la formazione. Ridurre i tempi aumentando la qualità?
DESCRIPTION:Concentrare la formazione. Ridurre i tempi aumentando la qualità?Team di lavoro:\nAlessandra Pazzaglia PwC Italia\nGabriele Sala Mapei\nChiara Bolasco Groupama\nGreta Pugliesi Kuehne+Nagel\nEdflex \nREGISTRATI
URL:https://hrcigroup.com/evento/concentrare-la-formazione-ridurre-i-tempi-aumentando-la-qualita/
CATEGORIES:HRC_SQUARE_LEARNING
ATTACH;FMTTYPE=image/jpeg:https://hrcigroup.com/wp-content/uploads/2025/10/HRCsquare_20260416.jpg
END:VEVENT
BEGIN:VEVENT
DTSTART;TZID=Europe/Rome:20260416T170000
DTEND;TZID=Europe/Rome:20260416T183000
DTSTAMP:20260420T164900
CREATED:20260220T100234Z
LAST-MODIFIED:20260315T053023Z
UID:3498-1776358800-1776364200@hrcigroup.com
SUMMARY:Cultura\, Benessere & Performance
DESCRIPTION:Workforce Planning\nIn presenza presso HRC COMMUNITY HUB a MILANO \nGuida ai lavori:\nSimone Capoferri Gewiss \nRichiedi di partecipare scrivendo a Eleonora Pennacchiotti QUI \nREGISTRATI
URL:https://hrcigroup.com/evento/cultura-benessere-performance/
CATEGORIES:HRD_LEADERS
ATTACH;FMTTYPE=image/jpeg:https://hrcigroup.com/wp-content/uploads/2026/02/HRDLeaders_20260416.jpg
END:VEVENT
END:VCALENDAR