BEGIN:VCALENDAR
VERSION:2.0
PRODID:-//HRC - ECPv6.2.7//NONSGML v1.0//EN
CALSCALE:GREGORIAN
METHOD:PUBLISH
X-ORIGINAL-URL:https://hrcigroup.com
X-WR-CALDESC:Eventi per HRC
REFRESH-INTERVAL;VALUE=DURATION:PT1H
X-Robots-Tag:noindex
X-PUBLISHED-TTL:PT1H
BEGIN:VTIMEZONE
TZID:Europe/Rome
BEGIN:DAYLIGHT
TZOFFSETFROM:+0100
TZOFFSETTO:+0200
TZNAME:CEST
DTSTART:20260329T010000
END:DAYLIGHT
BEGIN:STANDARD
TZOFFSETFROM:+0200
TZOFFSETTO:+0100
TZNAME:CET
DTSTART:20261025T010000
END:STANDARD
END:VTIMEZONE
BEGIN:VEVENT
DTSTART;TZID=Europe/Rome:20260507T100000
DTEND;TZID=Europe/Rome:20260507T110000
DTSTAMP:20260423T081133
CREATED:20251007T102728Z
LAST-MODIFIED:20260315T053023Z
UID:3392-1778148000-1778151600@hrcigroup.com
SUMMARY:Dal racconto all’azione: storie che durano nel tempo
DESCRIPTION:Le storie non si limitano a emozionare: possono attivare\, ispirare\, cambiare comportamenti. In questo ultimo incontro esploreremo come lo storytelling può guidare all’azione\, dalla call to action alla costruzione di community e fiducia nel tempo. Quali sono le invarianti e quali i driver verticali che permettono di costruire un racconto seriale coerente ed efficace? Trainer: Emanuele Finardi – Narrative Director – Storyfactory Società Benefit \nREGISTRATI
URL:https://hrcigroup.com/evento/dal-racconto-allazione-storie-che-durano-nel-tempo/
CATEGORIES:LS
ATTACH;FMTTYPE=image/jpeg:https://hrcigroup.com/wp-content/uploads/2025/10/LS_20260507.jpg
END:VEVENT
BEGIN:VEVENT
DTSTART;TZID=Europe/Rome:20260507T183000
DTEND;TZID=Europe/Rome:20260507T220000
DTSTAMP:20260423T081133
CREATED:20260220T100238Z
LAST-MODIFIED:20260315T053023Z
UID:3491-1778178600-1778191200@hrcigroup.com
SUMMARY:Relational Aperitif - 7 maggio 2026 - Bologna
DESCRIPTION:Un appuntamento esclusivo dedicato ai manager e decision-maker della community che vogliono ampliare il proprio network in un contesto informale e raffinato. \nRichiedi di partecipare compilando il form QUI \nREGISTRATI
URL:https://hrcigroup.com/evento/relational-aperitif-7-maggio-2026-bologna/
CATEGORIES:GRANDE_EVENTO
ATTACH;FMTTYPE=image/jpeg:https://hrcigroup.com/wp-content/uploads/2026/02/20260507_bologna.jpg
END:VEVENT
END:VCALENDAR