BEGIN:VCALENDAR
VERSION:2.0
PRODID:-//HRC - ECPv6.2.7//NONSGML v1.0//EN
CALSCALE:GREGORIAN
METHOD:PUBLISH
X-ORIGINAL-URL:https://hrcigroup.com
X-WR-CALDESC:Eventi per HRC
REFRESH-INTERVAL;VALUE=DURATION:PT1H
X-Robots-Tag:noindex
X-PUBLISHED-TTL:PT1H
BEGIN:VTIMEZONE
TZID:Europe/Rome
BEGIN:DAYLIGHT
TZOFFSETFROM:+0100
TZOFFSETTO:+0200
TZNAME:CEST
DTSTART:20260329T010000
END:DAYLIGHT
BEGIN:STANDARD
TZOFFSETFROM:+0200
TZOFFSETTO:+0100
TZNAME:CET
DTSTART:20261025T010000
END:STANDARD
END:VTIMEZONE
BEGIN:VEVENT
DTSTART;TZID=Europe/Rome:20260521T100000
DTEND;TZID=Europe/Rome:20260521T110000
DTSTAMP:20260421T214057
CREATED:20251007T102733Z
LAST-MODIFIED:20260315T053024Z
UID:3421-1779357600-1779361200@hrcigroup.com
SUMMARY:Sicurezza e Privacy: Protezione dei Dati e Governance
DESCRIPTION:Come garantire un uso sicuro e conforme di Copilot in azienda: protezione dei dati\, gestione degli accessi e strumenti di governance per un controllo efficaceTrainer:  \nREGISTRATI
URL:https://hrcigroup.com/evento/sicurezza-e-privacy-protezione-dei-dati-e-governance/
CATEGORIES:LS
ATTACH;FMTTYPE=image/jpeg:https://hrcigroup.com/wp-content/uploads/2025/10/LS_20260521-1.jpg
END:VEVENT
BEGIN:VEVENT
DTSTART;TZID=Europe/Rome:20260521T150000
DTEND;TZID=Europe/Rome:20260521T163000
DTSTAMP:20260421T214057
CREATED:20251007T102733Z
LAST-MODIFIED:20260315T053029Z
UID:3305-1779375600-1779381000@hrcigroup.com
SUMMARY:Allineamento tra strategia HR e obiettivi ESG
DESCRIPTION:Allineamento tra strategia HR e obiettivi ESG Team di lavoro:\nAndrea Guglielmetti De Nora\nUgo Canonico Gruppo Hera\nRoberta Ficorella Numia\nChiara Fichera  Coopservice\nArchiva Group \nREGISTRATI
URL:https://hrcigroup.com/evento/allineamento-tra-strategia-hr-e-obiettivi-esg/
CATEGORIES:HRC_SQUARE_PEOPLE_ORGANIZATION
ATTACH;FMTTYPE=image/jpeg:https://hrcigroup.com/wp-content/uploads/2025/10/HRCsquare_20260521.jpg
END:VEVENT
END:VCALENDAR