BEGIN:VCALENDAR
VERSION:2.0
PRODID:-//HRC - ECPv6.2.7//NONSGML v1.0//EN
CALSCALE:GREGORIAN
METHOD:PUBLISH
X-ORIGINAL-URL:https://hrcigroup.com
X-WR-CALDESC:Eventi per HRC
REFRESH-INTERVAL;VALUE=DURATION:PT1H
X-Robots-Tag:noindex
X-PUBLISHED-TTL:PT1H
BEGIN:VTIMEZONE
TZID:Europe/Rome
BEGIN:DAYLIGHT
TZOFFSETFROM:+0100
TZOFFSETTO:+0200
TZNAME:CEST
DTSTART:20260329T010000
END:DAYLIGHT
BEGIN:STANDARD
TZOFFSETFROM:+0200
TZOFFSETTO:+0100
TZNAME:CET
DTSTART:20261025T010000
END:STANDARD
END:VTIMEZONE
BEGIN:VEVENT
DTSTART;TZID=Europe/Rome:20260930T100000
DTEND;TZID=Europe/Rome:20260930T110000
DTSTAMP:20260421T104444
CREATED:20260220T100320Z
LAST-MODIFIED:20260315T053030Z
UID:3475-1790762400-1790766000@hrcigroup.com
SUMMARY:Storytelling che attrae: narrazione aziendale e tecniche di racconto
DESCRIPTION:Che cosa racconta davvero un’azienda quando comunica? Partiremo dall’identità\, dai suoi elementi distintivi e dalle storie che li rendono comprensibili alle persone. Esploreremo come trasformare valori e cultura in narrazioni brevi\, riconoscibili e coerenti. Un lavoro strategico che permette al brand di essere scelto\, non solo vistoTrainer:   \nREGISTRATI
URL:https://hrcigroup.com/evento/storytelling-che-attrae-narrazione-aziendale-e-tecniche-di-racconto/
CATEGORIES:LS
ATTACH;FMTTYPE=image/jpeg:https://hrcigroup.com/wp-content/uploads/2026/02/LS_20260930.jpg
END:VEVENT
BEGIN:VEVENT
DTSTART;TZID=Europe/Rome:20260930T150000
DTEND;TZID=Europe/Rome:20260930T163000
DTSTAMP:20260421T104444
CREATED:20260220T100322Z
LAST-MODIFIED:20260315T053026Z
UID:3437-1790780400-1790785800@hrcigroup.com
SUMMARY:Employer Branding per la Gen Z
DESCRIPTION:Employer Branding per la Gen Z \nREGISTRATI
URL:https://hrcigroup.com/evento/employer-branding-per-la-gen-z/
CATEGORIES:HRC_SQUARE_EMPLOYER_BRANDING_COMUNICAZIONE_INTERNA
ATTACH;FMTTYPE=image/jpeg:https://hrcigroup.com/wp-content/uploads/2026/02/HRCsquare_20260930.jpg
END:VEVENT
BEGIN:VEVENT
DTSTART;TZID=Europe/Rome:20260930T170000
DTEND;TZID=Europe/Rome:20260930T183000
DTSTAMP:20260421T104444
CREATED:20260220T100324Z
LAST-MODIFIED:20260315T053030Z
UID:3444-1790787600-1790793000@hrcigroup.com
SUMMARY:Cultura\, Benessere & Performance
DESCRIPTION:Cultura\, Benessere & Performance\nIn presenza presso HRC COMMUNITY HUB a MILANO \nGuida ai lavori:\nGianluca Di Gioia Peroni \nREGISTRATI
URL:https://hrcigroup.com/evento/cultura-benessere-performance-3/
CATEGORIES:HRD_LEADERS
ATTACH;FMTTYPE=image/jpeg:https://hrcigroup.com/wp-content/uploads/2026/02/HRDLeaders_20260930.jpg
END:VEVENT
END:VCALENDAR