BEGIN:VCALENDAR
VERSION:2.0
PRODID:-//HRC - ECPv6.2.7//NONSGML v1.0//EN
CALSCALE:GREGORIAN
METHOD:PUBLISH
X-ORIGINAL-URL:https://hrcigroup.com
X-WR-CALDESC:Eventi per HRC
REFRESH-INTERVAL;VALUE=DURATION:PT1H
X-Robots-Tag:noindex
X-PUBLISHED-TTL:PT1H
BEGIN:VTIMEZONE
TZID:Europe/Rome
BEGIN:DAYLIGHT
TZOFFSETFROM:+0100
TZOFFSETTO:+0200
TZNAME:CEST
DTSTART:20260329T010000
END:DAYLIGHT
BEGIN:STANDARD
TZOFFSETFROM:+0200
TZOFFSETTO:+0100
TZNAME:CET
DTSTART:20261025T010000
END:STANDARD
END:VTIMEZONE
BEGIN:VEVENT
DTSTART;TZID=Europe/Rome:20261014T100000
DTEND;TZID=Europe/Rome:20261014T110000
DTSTAMP:20260424T113541
CREATED:20260220T100342Z
LAST-MODIFIED:20260315T053026Z
UID:3483-1791972000-1791975600@hrcigroup.com
SUMMARY:Il mondo dei podcast
DESCRIPTION:Esploriamo il ruolo crescente dei podcast nella comunicazione dei brand. Dati\, tendenze e casi studio per capire come l’audio possa diventare un mezzo potente di storytelling aziendale e uno strumento efficace di relazione con il pubblicoTrainer:  Sara Poma\, Head of Editorial Content Chora e Will \nREGISTRATI
URL:https://hrcigroup.com/evento/il-mondo-dei-podcast/
CATEGORIES:LS
ATTACH;FMTTYPE=image/jpeg:https://hrcigroup.com/wp-content/uploads/2026/02/LS_20261014.jpg
END:VEVENT
BEGIN:VEVENT
DTSTART;TZID=Europe/Rome:20261014T183000
DTEND;TZID=Europe/Rome:20261014T220000
DTSTAMP:20260424T113541
CREATED:20260220T100344Z
LAST-MODIFIED:20260315T053026Z
UID:3496-1792002600-1792015200@hrcigroup.com
SUMMARY:Relational Aperitif - 14 ottobre 2026 - Roma
DESCRIPTION:Un appuntamento esclusivo dedicato ai manager e decision-maker della community che vogliono ampliare il proprio network in un contesto informale e raffinato. \nRichiedi di partecipare compilando il form QUI \nREGISTRATI
URL:https://hrcigroup.com/evento/relational-aperitif-14-ottobre-2026-roma/
CATEGORIES:GRANDE_EVENTO
ATTACH;FMTTYPE=image/jpeg:https://hrcigroup.com/wp-content/uploads/2026/02/20261014_roma.jpg
END:VEVENT
END:VCALENDAR