BEGIN:VCALENDAR
VERSION:2.0
PRODID:-//HRC - ECPv6.2.7//NONSGML v1.0//EN
CALSCALE:GREGORIAN
METHOD:PUBLISH
X-ORIGINAL-URL:https://hrcigroup.com
X-WR-CALDESC:Eventi per HRC
REFRESH-INTERVAL;VALUE=DURATION:PT1H
X-Robots-Tag:noindex
X-PUBLISHED-TTL:PT1H
BEGIN:VTIMEZONE
TZID:Europe/Rome
BEGIN:DAYLIGHT
TZOFFSETFROM:+0100
TZOFFSETTO:+0200
TZNAME:CEST
DTSTART:20260329T010000
END:DAYLIGHT
BEGIN:STANDARD
TZOFFSETFROM:+0200
TZOFFSETTO:+0100
TZNAME:CET
DTSTART:20261025T010000
END:STANDARD
END:VTIMEZONE
BEGIN:VEVENT
DTSTART;TZID=Europe/Rome:20261111T100000
DTEND;TZID=Europe/Rome:20261111T110000
DTSTAMP:20260421T140124
CREATED:20260220T100410Z
LAST-MODIFIED:20260315T053027Z
UID:3462-1794391200-1794394800@hrcigroup.com
SUMMARY:Equilibrio e forza
DESCRIPTION:Ci concentriamo sull’equilibrio tra mobilità e tono muscolare: piccoli esercizi per core\, gambe e braccia\, tutti eseguibili con la sedia o in piedi. L’obiettivo è rafforzare i muscoli posturali\, migliorare stabilità e sostenere la colonna dando forza al nostro corpo. Il risultato è una maggiore resistenza a stress fisico da sedentarietà e una postura migliore anche nei gesti quotidianiTrainer: Rebecca Boasso\, Co-founder REBLISS \nREGISTRATI
URL:https://hrcigroup.com/evento/equilibrio-e-forza/
CATEGORIES:LS
ATTACH;FMTTYPE=image/jpeg:https://hrcigroup.com/wp-content/uploads/2026/02/LS_20261111.jpg
END:VEVENT
END:VCALENDAR