BEGIN:VCALENDAR
VERSION:2.0
PRODID:-//HRC - ECPv6.2.7//NONSGML v1.0//EN
CALSCALE:GREGORIAN
METHOD:PUBLISH
X-WR-CALNAME:HRC
X-ORIGINAL-URL:https://hrcigroup.com
X-WR-CALDESC:Eventi per HRC
REFRESH-INTERVAL;VALUE=DURATION:PT1H
X-Robots-Tag:noindex
X-PUBLISHED-TTL:PT1H
BEGIN:VTIMEZONE
TZID:Europe/Rome
BEGIN:DAYLIGHT
TZOFFSETFROM:+0100
TZOFFSETTO:+0200
TZNAME:CEST
DTSTART:20260329T010000
END:DAYLIGHT
BEGIN:STANDARD
TZOFFSETFROM:+0200
TZOFFSETTO:+0100
TZNAME:CET
DTSTART:20261025T010000
END:STANDARD
END:VTIMEZONE
BEGIN:VEVENT
DTSTART;TZID=Europe/Rome:20261001T100000
DTEND;TZID=Europe/Rome:20261001T110000
DTSTAMP:20260425T191123
CREATED:20260220T100325Z
LAST-MODIFIED:20260315T053030Z
UID:3476-1790848800-1790852400@hrcigroup.com
SUMMARY:Farsi scegliere: come comunicare l’Employer Brand
DESCRIPTION:La comunicazione dell’Employer Brand è fatta di scelte: tono\, canali\, formati e continuità. Vedremo come rendere riconoscibile la voce dell’azienda e come adattarla ai diversi pubblici senza perdere coerenza. L’obiettivo è costruire messaggi che non descrivono soltanto\, ma mostrano chi siamo attraverso esperienze\, gesti e pratiche visibiliTrainer:   \nREGISTRATI
URL:https://hrcigroup.com/evento/farsi-scegliere-come-comunicare-lemployer-brand/
CATEGORIES:LS
ATTACH;FMTTYPE=image/jpeg:https://hrcigroup.com/wp-content/uploads/2026/02/LS_20261001.jpg
END:VEVENT
BEGIN:VEVENT
DTSTART;TZID=Europe/Rome:20261005T100000
DTEND;TZID=Europe/Rome:20261005T110000
DTSTAMP:20260425T191123
CREATED:20260220T100328Z
LAST-MODIFIED:20260315T053026Z
UID:3477-1791194400-1791198000@hrcigroup.com
SUMMARY:Energy discovery: scopri la tua energia dominante
DESCRIPTION:Ogni persona è caratterizzata da un’energia che nasce dall’equilibrio tra tre centri: la testa (dimensione cognitiva)\, il cuore (dimensione affettiva) e la pancia (dimensione comportamentale). Durante la sessione i partecipanti esploreranno i tre centri di intelligenza\, riconoscendo quale di questi guida più spesso il loro modo di percepire\, decidere e agireTrainer: Davide Cortesi\, Executive & Business Coach – Psicologo del Lavoro; SAFE – Shape your energy \nREGISTRATI
URL:https://hrcigroup.com/evento/energy-discovery-scopri-la-tua-energia-dominante/
CATEGORIES:LS
ATTACH;FMTTYPE=image/jpeg:https://hrcigroup.com/wp-content/uploads/2026/02/LS_20261005.jpg
END:VEVENT
BEGIN:VEVENT
DTSTART;TZID=Europe/Rome:20261006T100000
DTEND;TZID=Europe/Rome:20261006T110000
DTSTAMP:20260425T191123
CREATED:20260220T100330Z
LAST-MODIFIED:20260315T053026Z
UID:3478-1791280800-1791284400@hrcigroup.com
SUMMARY:Talent Discovery: scopri il tuo talento dominante
DESCRIPTION:Ogni individuo esprime un tratto personale che orienta comportamenti\, scelte\, tempi decisionali e reazioni allo stress. Attraverso il modello Diamond®\, i partecipanti identificheranno il proprio talento dominante\, i driver che lo attivano e i deragliatori che\npossono limitare l’efficacia. Consapevolezza e conoscenza di sé diventano strumenti fondamentali per orientare le proprie azioni verso obiettivi più chiari e performance miglioriTrainer: Davide Cortesi\, Executive & Business Coach – Psicologo del Lavoro; SAFE – Shape your energy \nREGISTRATI
URL:https://hrcigroup.com/evento/talent-discovery-scopri-il-tuo-talento-dominante/
CATEGORIES:LS
ATTACH;FMTTYPE=image/jpeg:https://hrcigroup.com/wp-content/uploads/2026/02/LS_20261006.jpg
END:VEVENT
BEGIN:VEVENT
DTSTART;TZID=Europe/Rome:20261007T100000
DTEND;TZID=Europe/Rome:20261007T110000
DTSTAMP:20260425T191123
CREATED:20260220T100333Z
LAST-MODIFIED:20260315T053026Z
UID:3479-1791367200-1791370800@hrcigroup.com
SUMMARY:Energy & Relationship: collaborare valorizzando i diversi tratti
DESCRIPTION:Nei team convivono energie diverse che\, se comprese e integrate\, aumentano collaborazione\, engagement e qualità delle decisioni. Questa sessione approfondisce come i vari profili Diamond interagiscono\, quali dinamiche facilitare e quali evitare. L’obiettivo è allenare la capacità di leggere l’energia degli altri\, comunicare in modo più efficace e creare condizioni relazionali che potenzino la cooperazione e la fiduciaTrainer: Davide Cortesi\, Executive & Business Coach – Psicologo del Lavoro; SAFE – Shape your energy \nREGISTRATI
URL:https://hrcigroup.com/evento/energy-relationship-collaborare-valorizzando-i-diversi-tratti/
CATEGORIES:LS
ATTACH;FMTTYPE=image/jpeg:https://hrcigroup.com/wp-content/uploads/2026/02/LS_20261007.jpg
END:VEVENT
BEGIN:VEVENT
DTSTART;TZID=Europe/Rome:20261008T100000
DTEND;TZID=Europe/Rome:20261008T110000
DTSTAMP:20260425T191123
CREATED:20260220T100335Z
LAST-MODIFIED:20260315T053026Z
UID:3480-1791453600-1791457200@hrcigroup.com
SUMMARY:Energy & Agility: Adattare la propria energia\, flessibilità nei contesti complessi
DESCRIPTION:Ogni profilo energetico presenta automatismi e zone di comfort che possono diventare ostacoli nei contesti mutevoli. Attraverso esempi e micro-esercizi\, la sessione mostra come riconoscere il proprio “pilota automatico” e modulare intenzionalmente il tratto energetico per rispondere meglio a cambi di priorità\, obiettivi e scenari. Un allenamento alla flessibilità che aumenta efficacia\, resilienza e autonomia decisionaleTrainer: Davide Cortesi\, Executive & Business Coach – Psicologo del Lavoro; SAFE – Shape your energy \nREGISTRATI
URL:https://hrcigroup.com/evento/energy-agility-adattare-la-propria-energia-flessibilita-nei-contesti-complessi/
CATEGORIES:LS
ATTACH;FMTTYPE=image/jpeg:https://hrcigroup.com/wp-content/uploads/2026/02/LS_20261008.jpg
END:VEVENT
BEGIN:VEVENT
DTSTART;TZID=Europe/Rome:20261012T100000
DTEND;TZID=Europe/Rome:20261012T110000
DTSTAMP:20260425T191123
CREATED:20260220T100337Z
LAST-MODIFIED:20260315T053026Z
UID:3481-1791799200-1791802800@hrcigroup.com
SUMMARY:Brand storytelling
DESCRIPTION:Scopri i principi del branded storytelling: come trasformare valori\, visioni e obiettivi aziendali in storie che creano connessione e riconoscibilità. Un incontro per capire perché la narrazione è oggi uno strumento strategico per la comunicazione dei brandTrainer:  Graziano Nani\, Branded Content Editing Supervisor Chora e Will\, \nREGISTRATI
URL:https://hrcigroup.com/evento/brand-storytelling/
CATEGORIES:LS
ATTACH;FMTTYPE=image/jpeg:https://hrcigroup.com/wp-content/uploads/2026/02/LS_20261012.jpg
END:VEVENT
BEGIN:VEVENT
DTSTART;TZID=Europe/Rome:20261013T100000
DTEND;TZID=Europe/Rome:20261013T110000
DTSTAMP:20260425T191123
CREATED:20260220T100339Z
LAST-MODIFIED:20260315T053026Z
UID:3482-1791885600-1791889200@hrcigroup.com
SUMMARY:New media\, trend e mercato
DESCRIPTION:Analizziamo trend\, piattaforme e nuove abitudini di consumo dei contenuti. L’obiettivo è comprendere come cambia l’ecosistema dei media e come le aziende possono adattare linguaggi e strategie per restare rilevanti e connessi con le proprie audienceTrainer:  Francesco Zaffarano\, Audience & Content Strategist Chora e Will \nREGISTRATI
URL:https://hrcigroup.com/evento/new-media-trend-e-mercato/
CATEGORIES:LS
ATTACH;FMTTYPE=image/jpeg:https://hrcigroup.com/wp-content/uploads/2026/02/LS_20261013.jpg
END:VEVENT
BEGIN:VEVENT
DTSTART;TZID=Europe/Rome:20261014T100000
DTEND;TZID=Europe/Rome:20261014T110000
DTSTAMP:20260425T191123
CREATED:20260220T100342Z
LAST-MODIFIED:20260315T053026Z
UID:3483-1791972000-1791975600@hrcigroup.com
SUMMARY:Il mondo dei podcast
DESCRIPTION:Esploriamo il ruolo crescente dei podcast nella comunicazione dei brand. Dati\, tendenze e casi studio per capire come l’audio possa diventare un mezzo potente di storytelling aziendale e uno strumento efficace di relazione con il pubblicoTrainer:  Sara Poma\, Head of Editorial Content Chora e Will \nREGISTRATI
URL:https://hrcigroup.com/evento/il-mondo-dei-podcast/
CATEGORIES:LS
ATTACH;FMTTYPE=image/jpeg:https://hrcigroup.com/wp-content/uploads/2026/02/LS_20261014.jpg
END:VEVENT
BEGIN:VEVENT
DTSTART;TZID=Europe/Rome:20261015T100000
DTEND;TZID=Europe/Rome:20261015T110000
DTSTAMP:20260425T191123
CREATED:20260220T100347Z
LAST-MODIFIED:20260315T053026Z
UID:3484-1792058400-1792062000@hrcigroup.com
SUMMARY:New media e comunicazione aziendale
DESCRIPTION:Approfondiamo come integrare i nuovi media nella comunicazione d’impresa. Dalle piattaforme social ai format digitali\, un focus su strumenti\, approcci e strategie per costruire una presenza aziendale coerente\, innovativa e in sintonia con i linguaggi di oggiTrainer:  Filippo D’Asaro\, Strategy Lead Chora e Will \nREGISTRATI
URL:https://hrcigroup.com/evento/new-media-e-comunicazione-aziendale/
CATEGORIES:LS
ATTACH;FMTTYPE=image/jpeg:https://hrcigroup.com/wp-content/uploads/2026/02/LS_20261015.jpg
END:VEVENT
BEGIN:VEVENT
DTSTART;TZID=Europe/Rome:20261019T100000
DTEND;TZID=Europe/Rome:20261019T110000
DTSTAMP:20260425T191123
CREATED:20260220T100348Z
LAST-MODIFIED:20260315T053026Z
UID:3453-1792404000-1792407600@hrcigroup.com
SUMMARY:Shadow AI Economy: Come catturare l'innovazione spontanea nella tua organizzazione
DESCRIPTION:Il 70-90% dei knowledge worker usa già AI. Questa “”Shadow AI Economy”” non è un problema di compliance\, ma innovazione spontanea da catturare. L’AI Transformation è il primo fenomeno bottom-up nella storia dell’enterprise technology: le persone sono già avanti. Scoprirete come mappare e sistematizzare questa innovazione nascosta\, trasformando esperimenti individuali in vantaggio competitivo sistemico per l’intera organizzazioneTrainer:  Giacomo Ciarlini\, Co-Founder & CIO\, Datapizza \nREGISTRATI
URL:https://hrcigroup.com/evento/shadow-ai-economy-come-catturare-linnovazione-spontanea-nella-tua-organizzazione/
CATEGORIES:LS
ATTACH;FMTTYPE=image/jpeg:https://hrcigroup.com/wp-content/uploads/2026/02/LS_20261019.jpg
END:VEVENT
BEGIN:VEVENT
DTSTART;TZID=Europe/Rome:20261020T100000
DTEND;TZID=Europe/Rome:20261020T110000
DTSTAMP:20260425T191123
CREATED:20260220T100350Z
LAST-MODIFIED:20260315T053027Z
UID:3454-1792490400-1792494000@hrcigroup.com
SUMMARY:Change Management in the Age of AI: Gestire la trasformazione senza perdere momentum
DESCRIPTION:Il fallimento dell’AI non è tecnologico ma organizzativo. Senza commitment del board avrete progetti frammentati che muoiono dopo 6 mesi. Questa sessione esplora come costruire l’architettura di commitment: cabina di regia operativa\, workshop executive\, gestione aspettative\, meccanismo di scaling. Imparerete a bilanciare quick wins visibili con la comunicazione realistica che “”la trasformazione richiede anni””\, evitando sia l’hype che il cinismoTrainer:  Manuel Vimercati\, Scientific Director\, Datapizza \nREGISTRATI
URL:https://hrcigroup.com/evento/change-management-in-the-age-of-ai-gestire-la-trasformazione-senza-perdere-momentum/
CATEGORIES:LS
ATTACH;FMTTYPE=image/jpeg:https://hrcigroup.com/wp-content/uploads/2026/02/LS_20261020.jpg
END:VEVENT
BEGIN:VEVENT
DTSTART;TZID=Europe/Rome:20261021T100000
DTEND;TZID=Europe/Rome:20261021T110000
DTSTAMP:20260425T191123
CREATED:20260220T100351Z
LAST-MODIFIED:20260315T053027Z
UID:3455-1792576800-1792580400@hrcigroup.com
SUMMARY:Da Esecutori a Orchestratori: Il nuovo ruolo delle persone nell'organizzazione AI-powered
DESCRIPTION:Se l’AI può fare il 70% del lavoro di un analyst\, come si evolve il ruolo di un Junior?  Questo è il cuore della transformation: ridisegnare ruoli\, processi e strutture per l’era in cui gli umani orchestrano invece di eseguire. Esplorerete questo percorso\, dalla fase tattica alla strategica\, con esempi concreti su team dove il 70% dei task è AI-powered\, affrontando anche domande difficili: seniority\, capacity\, persone non adattabiliTrainer:  Loredana Esposito\, Senior AI Trainer\, Datapizza \nREGISTRATI
URL:https://hrcigroup.com/evento/da-esecutori-a-orchestratori-il-nuovo-ruolo-delle-persone-nellorganizzazione-ai-powered/
CATEGORIES:LS
ATTACH;FMTTYPE=image/jpeg:https://hrcigroup.com/wp-content/uploads/2026/02/LS_20261021.jpg
END:VEVENT
BEGIN:VEVENT
DTSTART;TZID=Europe/Rome:20261022T100000
DTEND;TZID=Europe/Rome:20261022T110000
DTSTAMP:20260425T191123
CREATED:20260220T100354Z
LAST-MODIFIED:20260315T053027Z
UID:3485-1792663200-1792666800@hrcigroup.com
SUMMARY:People Transformation: AI Literacy\, Champion e percorsi di adozione personalizzati
DESCRIPTION:L’AI non fallisce per la tecnologia\, fallisce per le persone. Questa sessione esplora la trasformazione attraverso assessment AI-powered\, segmentazione della popolazione (da No-AI a Champion) e percorsi personalizzati per ruolo e profilo psicologico. Scoprirete il metodo testato su 10.000+ persone: identificare early adopter\, trasformarli in agenti di cambiamento interni\, gestire resistenze e paure\, costruire reti di peer learning. Non “”training su ChatGPT”” ma trasformazione culturale profondaTrainer:  Luca Cirio\, Senior AI Trainer\, Datapizza \nREGISTRATI
URL:https://hrcigroup.com/evento/people-transformation-ai-literacy-champion-e-percorsi-di-adozione-personalizzati/
CATEGORIES:LS
ATTACH;FMTTYPE=image/jpeg:https://hrcigroup.com/wp-content/uploads/2026/02/LS_20261022.jpg
END:VEVENT
BEGIN:VEVENT
DTSTART;TZID=Europe/Rome:20261026T100000
DTEND;TZID=Europe/Rome:20261026T110000
DTSTAMP:20260425T191123
CREATED:20260220T100356Z
LAST-MODIFIED:20260315T053027Z
UID:3456-1793008800-1793012400@hrcigroup.com
SUMMARY:Mutui e Finanziamenti: conviene stare in affitto o comprare casa?
DESCRIPTION:Acquistare casa o restare in affitto? In questo incontro analizzeremo in modo concreto una delle decisioni economiche più importanti della vita. Confronteremo costi e benefici nel lungo periodo\, spiegheremo come funzionano i mutui (tassi\, durata\, costi accessori) e come leggere un contratto per valutarne i rischi. L’obiettivo è fornire strumenti pratici per arrivare preparati in banca e fare scelte sostenibili rispetto alle proprie possibilità e prioritàTrainer: Stefano Chemello\, Educatore Finanziario Indipendente \nREGISTRATI
URL:https://hrcigroup.com/evento/mutui-e-finanziamenti-conviene-stare-in-affitto-o-comprare-casa/
CATEGORIES:LS
ATTACH;FMTTYPE=image/jpeg:https://hrcigroup.com/wp-content/uploads/2026/02/LS_20261026.jpg
END:VEVENT
BEGIN:VEVENT
DTSTART;TZID=Europe/Rome:20261027T100000
DTEND;TZID=Europe/Rome:20261027T110000
DTSTAMP:20260425T191123
CREATED:20260220T100358Z
LAST-MODIFIED:20260315T053027Z
UID:3457-1793095200-1793098800@hrcigroup.com
SUMMARY:Finanziamenti e polizze: cosa valutare per scegliere con consapevolezza
DESCRIPTION:Un workshop dedicato a comprendere come gestire in modo equilibrato il rapporto tra credito e protezione. Approfondiremo le principali tipologie di finanziamento (mutui ipotecari\, prestiti personali\, cessione del quinto) e vedremo come scegliere le soluzioni più adatte alle proprie esigenze. Esploreremo poi il ruolo delle polizze vita e danni nella pianificazione finanziaria\, per costruire una rete di sicurezza economica che protegga persone\, progetti e futuroTrainer: Stefano Chemello\, Educatore Finanziario Indipendente \nREGISTRATI
URL:https://hrcigroup.com/evento/finanziamenti-e-polizze-cosa-valutare-per-scegliere-con-consapevolezza/
CATEGORIES:LS
ATTACH;FMTTYPE=image/jpeg:https://hrcigroup.com/wp-content/uploads/2026/02/LS_20261027.jpg
END:VEVENT
BEGIN:VEVENT
DTSTART;TZID=Europe/Rome:20261028T100000
DTEND;TZID=Europe/Rome:20261028T110000
DTSTAMP:20260425T191123
CREATED:20260220T100401Z
LAST-MODIFIED:20260315T053027Z
UID:3458-1793181600-1793185200@hrcigroup.com
SUMMARY:Finanze nella coppia: come gestire il patrimonio senza intoppi
DESCRIPTION:Gestire il denaro in coppia non significa solo dividere le spese\, ma condividere obiettivi e responsabilità. In questo incontro parleremo delle diverse modalità di gestione economica  (separata\, condivisa o mista)  e di come scegliere quella più adatta alla propria relazione. Analizzeremo esempi reali di pianificazione familiare\, tecniche per evitare disallineamenti e conflitti\, e strumenti per costruire insieme un equilibrio finanziario sereno e duraturoTrainer: Virginia Pieropan\, Educatrice Finanziaria Indipendente \nREGISTRATI
URL:https://hrcigroup.com/evento/finanze-nella-coppia-come-gestire-il-patrimonio-senza-intoppi/
CATEGORIES:LS
ATTACH;FMTTYPE=image/jpeg:https://hrcigroup.com/wp-content/uploads/2026/02/LS_20261028.jpg
END:VEVENT
BEGIN:VEVENT
DTSTART;TZID=Europe/Rome:20261029T100000
DTEND;TZID=Europe/Rome:20261029T110000
DTSTAMP:20260425T191123
CREATED:20260220T100403Z
LAST-MODIFIED:20260315T053027Z
UID:3459-1793268000-1793271600@hrcigroup.com
SUMMARY:Investimenti\, gli strumenti complessi
DESCRIPTION:Un modulo pensato per chi desidera approfondire la conoscenza dei mercati e comprendere i meccanismi degli strumenti più articolati. Analizzeremo fondi comuni\, ETF\, gestione attiva e passiva\, benchmark\, indici di mercato e costi associati. Tratteremo anche futures\, opzioni e CFD per capire opportunità e rischi dei prodotti complessi. L’obiettivo è acquisire consapevolezza e metodo\, imparando a valutare ogni investimento con competenza e realismoTrainer: Manuele Martino\, Educatore Finanziario Indipendente \nREGISTRATI
URL:https://hrcigroup.com/evento/investimenti-gli-strumenti-complessi/
CATEGORIES:LS
ATTACH;FMTTYPE=image/jpeg:https://hrcigroup.com/wp-content/uploads/2026/02/LS_20261029.jpg
END:VEVENT
END:VCALENDAR