BEGIN:VCALENDAR
VERSION:2.0
PRODID:-//HRC - ECPv6.2.7//NONSGML v1.0//EN
CALSCALE:GREGORIAN
METHOD:PUBLISH
X-WR-CALNAME:HRC
X-ORIGINAL-URL:https://hrcigroup.com
X-WR-CALDESC:Eventi per HRC
REFRESH-INTERVAL;VALUE=DURATION:PT1H
X-Robots-Tag:noindex
X-PUBLISHED-TTL:PT1H
BEGIN:VTIMEZONE
TZID:Europe/Rome
BEGIN:DAYLIGHT
TZOFFSETFROM:+0100
TZOFFSETTO:+0200
TZNAME:CEST
DTSTART:20260329T010000
END:DAYLIGHT
BEGIN:STANDARD
TZOFFSETFROM:+0200
TZOFFSETTO:+0100
TZNAME:CET
DTSTART:20261025T010000
END:STANDARD
END:VTIMEZONE
BEGIN:VEVENT
DTSTART;TZID=Europe/Rome:20260604T170000
DTEND;TZID=Europe/Rome:20260604T183000
DTSTAMP:20260425T181135
CREATED:20260220T100246Z
LAST-MODIFIED:20260315T053029Z
UID:3441-1780592400-1780597800@hrcigroup.com
SUMMARY:AI & Agentic AI
DESCRIPTION:AI & Agentic AIIn presenza presso HRC COMMUNITY HUB a MILANO \nGuida ai lavori:\nRosa Martelli Zenita Group \nRichiedi di partecipare scrivendo a Eleonora Pennacchiotti QUI \nREGISTRATI
URL:https://hrcigroup.com/evento/ai-agentic-ai-2/
CATEGORIES:HRD_LEADERS
ATTACH;FMTTYPE=image/jpeg:https://hrcigroup.com/wp-content/uploads/2026/02/HRDLeaders_20260604.jpg
END:VEVENT
BEGIN:VEVENT
DTSTART;TZID=Europe/Rome:20260609T110000
DTEND;TZID=Europe/Rome:20260609T120000
DTSTAMP:20260425T181135
CREATED:20260220T100248Z
LAST-MODIFIED:20260315T053024Z
UID:3402-1781002800-1781006400@hrcigroup.com
SUMMARY:Live Demo 2026 - Allos
DESCRIPTION:Coming Soon \nREGISTRATI
URL:https://hrcigroup.com/evento/live-demo-2026-allos/
CATEGORIES:LIVE_DEMO
ATTACH;FMTTYPE=image/jpeg:https://hrcigroup.com/wp-content/uploads/2026/02/generica-3.jpg
END:VEVENT
BEGIN:VEVENT
DTSTART;TZID=Europe/Rome:20260612T140000
DTEND;TZID=Europe/Rome:20260614T100000
DTSTAMP:20260425T181135
CREATED:20260220T100249Z
LAST-MODIFIED:20260315T053024Z
UID:3359-1781272800-1781431200@hrcigroup.com
SUMMARY:HRC Meeting 2026
DESCRIPTION:HRC Meeting 2026\n12–14 giugno | VOI Tanka Village\, Sardegna \nUn viaggio immersivo tra umanità e innovazione.\nNel cuore della Sardegna\, la nostra Community di HR Director e HR Manager si riunisce per vivere un’esperienza fuori dal tempo\, dove i 5 sensi diventano la chiave per interpretare il presente e immaginare il futuro delle risorse umane nell’era dell’AI.\nSessioni ispirazionali\, attività esperienziali\, sport e momenti di networking costruiranno un dialogo autentico tra tecnologia e sensibilità umana.\nPer ritrovare ciò che ci rende unici. E progettare insieme il domani. \nBLOCCA IL TUO POSTO PER IL 2026  HRC MEETING \nREGISTRATI
URL:https://hrcigroup.com/evento/hrc-meeting-2026/
CATEGORIES:MEETING
ATTACH;FMTTYPE=image/jpeg:https://hrcigroup.com/wp-content/uploads/2026/02/1080x1350_card_Meeting_new.jpg
END:VEVENT
BEGIN:VEVENT
DTSTART;TZID=Europe/Rome:20260615T100000
DTEND;TZID=Europe/Rome:20260615T110000
DTSTAMP:20260425T181135
CREATED:20251007T102735Z
LAST-MODIFIED:20260315T053024Z
UID:3433-1781517600-1781521200@hrcigroup.com
SUMMARY:Disabilità e Inclusive Design: l'accessibilità dentro e fuori le organizzazioni
DESCRIPTION:Di chi è la responsabilità di una disabilità? Dell’individuo? O di chi progetta uno spazio o un oggetto non accessibile? Questo workshop vuole farci riflettere sull’importanza di considerare punti di vista alternativi\, in particolare quando si parla di disabilità. Allo stesso tempo è necessario guardare alla disabilità in azienda non come un costo o un’inefficienza ma come una risorsa\, che può garantire skills e innovazione a cui forse non avevamo mai pensatoTrainer: Claudio Guffanti\, Founder\, Unlimited Views \nREGISTRATI
URL:https://hrcigroup.com/evento/disabilita-e-inclusive-design-laccessibilita-dentro-e-fuori-le-organizzazioni/
CATEGORIES:LS
ATTACH;FMTTYPE=image/jpeg:https://hrcigroup.com/wp-content/uploads/2025/10/LS_20260615.jpg
END:VEVENT
BEGIN:VEVENT
DTSTART;TZID=Europe/Rome:20260616T100000
DTEND;TZID=Europe/Rome:20260616T110000
DTSTAMP:20260425T181135
CREATED:20251007T102734Z
LAST-MODIFIED:20260315T053024Z
UID:3430-1781604000-1781607600@hrcigroup.com
SUMMARY:Over the Rainbow: diversità e inclusione LGBTQIA+ in azienda
DESCRIPTION:“Over the Rainbow” è un percorso formativo dedicato al valore delle diversità e all’inclusione della comunità LGBTQIA+ in azienda. Attraverso esempi concreti e momenti di confronto\, il corso invita a riconoscere i pregiudizi inconsapevoli\, a valorizzare le differenze e a trasformarle in risorse per l’organizzazione\, promuovendo collaborazione\, rispetto e innovazione sostenibileTrainer:  Cathy La Torre\, Partner\, Unlimited Views \nREGISTRATI
URL:https://hrcigroup.com/evento/over-the-rainbow-diversita-e-inclusione-lgbtqia-in-azienda/
CATEGORIES:LS
ATTACH;FMTTYPE=image/jpeg:https://hrcigroup.com/wp-content/uploads/2025/10/LS_20260616.jpg
END:VEVENT
BEGIN:VEVENT
DTSTART;TZID=Europe/Rome:20260617T100000
DTEND;TZID=Europe/Rome:20260617T110000
DTSTAMP:20260425T181135
CREATED:20251007T102737Z
LAST-MODIFIED:20260315T053024Z
UID:3431-1781690400-1781694000@hrcigroup.com
SUMMARY:Intercultura: istruzioni per l’uso nel mondo del lavoro
DESCRIPTION:Esploreremo l’intercultura come competenza strategica per le aziende: comprendere cos’è\, come superare bias e stereotipi e come trasformare le differenze in valore concreto. Attraverso esempi pratici\, momenti di confronto e strumenti immediatamente applicabili\, i partecipanti porteranno con sé una vera “cassetta degli attrezzi” per rendere la diversità una risorsa quotidianaTrainer: Abdul Zar\, Trainer\, Unlimited Views \nREGISTRATI
URL:https://hrcigroup.com/evento/intercultura-istruzioni-per-luso-nel-mondo-del-lavoro/
CATEGORIES:LS
ATTACH;FMTTYPE=image/jpeg:https://hrcigroup.com/wp-content/uploads/2025/10/LS_20260617.jpg
END:VEVENT
BEGIN:VEVENT
DTSTART;TZID=Europe/Rome:20260618T100000
DTEND;TZID=Europe/Rome:20260618T110000
DTSTAMP:20260425T181135
CREATED:20251007T102737Z
LAST-MODIFIED:20260315T053024Z
UID:3432-1781776800-1781780400@hrcigroup.com
SUMMARY:Genere e microaggressioni: la natura invisibile della discriminazione
DESCRIPTION:Costruiamo un vocabolario comune sulle principali differenze tra i generi: cosa intendiamo con il concetto stesso di genere? E come differisce dal concetto di sesso biologico? Scopriamo le principali microaggressioni di genere che sono molto spesso difficili da riconoscere per la loro “invisibilità”: cat calling\, mensplaining\, menspreading. Definiamo una strategia per individuarle\, nominarle e fronteggiarle con i micro interventi!Trainer: Valentina Sorbi\, Trainer\, Unlimited Views \nREGISTRATI
URL:https://hrcigroup.com/evento/genere-e-microaggressioni-la-natura-invisibile-della-discriminazione/
CATEGORIES:LS
ATTACH;FMTTYPE=image/jpeg:https://hrcigroup.com/wp-content/uploads/2025/10/LS_20260618.jpg
END:VEVENT
BEGIN:VEVENT
DTSTART;TZID=Europe/Rome:20260622T100000
DTEND;TZID=Europe/Rome:20260622T110000
DTSTAMP:20260425T181135
CREATED:20251007T102736Z
LAST-MODIFIED:20260315T053024Z
UID:3393-1782122400-1782126000@hrcigroup.com
SUMMARY:Sintomi comportamentali: ecco perché...
DESCRIPTION:Un’ora dedicata a riconoscere i segnali visibili e invisibili dello stress: chiusure\, scatti\, evitamenti. Attraverso il video simbolico di Cast Away / Wilson e la teoria di Krone\, i partecipanti associano personaggi e sintomi organizzativi per comprendere come lo stress emerge prima ancora di rendercene contoTrainer: Antonio Genovesi\, Believer\, Walk of Life \nREGISTRATI
URL:https://hrcigroup.com/evento/sintomi-comportamentali-ecco-perche/
CATEGORIES:LS
ATTACH;FMTTYPE=image/jpeg:https://hrcigroup.com/wp-content/uploads/2025/10/LS_20260622-1.jpg
END:VEVENT
BEGIN:VEVENT
DTSTART;TZID=Europe/Rome:20260622T150000
DTEND;TZID=Europe/Rome:20260622T163000
DTSTAMP:20260425T181135
CREATED:20251007T102736Z
LAST-MODIFIED:20260315T053029Z
UID:3306-1782140400-1782145800@hrcigroup.com
SUMMARY:New generation e relazioni sindacali: cosa si aspettano i giovani dai contratti
DESCRIPTION:New generation e relazioni sindacali: cosa si aspettano i giovani dai contrattiTeam di lavoro:\nAndrea di Muoio Entain\nMichela Porcaro SIAE\nGiovanni Piccirillo Ericsson\nMarco Corcione Mondadori Group\nDaniela Nikaj STMicroelectronics\nMaria Micaela Altomanno Novomatic Italia\nFrancesco Veneziani Sanofi Italia\nSerena Pavanello Fastweb\nMarcello Rita Gruppo Hera\nMatteo Butturi Coca-Cola HBC Italia\nFederico Fornaroli Andersen in Italy \nREGISTRATI
URL:https://hrcigroup.com/evento/new-generation-e-relazioni-sindacali-cosa-si-aspettano-i-giovani-dai-contratti/
CATEGORIES:HRC_SQUARE_LABUR
ATTACH;FMTTYPE=image/jpeg:https://hrcigroup.com/wp-content/uploads/2025/10/HRCsquare_20260622-1.jpg
END:VEVENT
BEGIN:VEVENT
DTSTART;TZID=Europe/Rome:20260623T100000
DTEND;TZID=Europe/Rome:20260623T110000
DTSTAMP:20260425T181135
CREATED:20251007T102736Z
LAST-MODIFIED:20260315T053025Z
UID:3394-1782208800-1782212400@hrcigroup.com
SUMMARY:Centri di proliferazione: da dove nasce e come si consolida
DESCRIPTION:Lo stress non nasce sempre da grandi eventi\, ma da situazioni apparentemente normali. In questa sessione i partecipanti vivranno esperienze brevi ma intense che porteranno alla luce i loro “focolai” emotivi. Attraverso un confronto di gruppo\, emergeranno i legami tra micro-stress e i principali ambiti critici del lavoroTrainer: Antonio Genovesi\, Believer\, Walk of Life \nREGISTRATI
URL:https://hrcigroup.com/evento/centri-di-proliferazione-da-dove-nasce-e-come-si-consolida/
CATEGORIES:LS
ATTACH;FMTTYPE=image/jpeg:https://hrcigroup.com/wp-content/uploads/2025/10/LS_20260623-1.jpg
END:VEVENT
BEGIN:VEVENT
DTSTART;TZID=Europe/Rome:20260623T110000
DTEND;TZID=Europe/Rome:20260623T130000
DTSTAMP:20260425T181135
CREATED:20260220T100251Z
LAST-MODIFIED:20260315T053029Z
UID:3440-1782212400-1782219600@hrcigroup.com
SUMMARY:Learning & Development TRENDS - Firenze
DESCRIPTION:11:00: WELCOME\n11:05: Sessione dedicata ad approfondire spunti di riflessioni raccolti e individuarne di nuovi\, grazie al contributo di autorevoli speaker e del technical partner \nLA MARZOCCO\nTP \n12:00: PHYGITAL LAB in cui partecipanti online e in presenza\, tramite il modello dei Tre Orizzonti\, costruiranno una visione condivisa dei processi HR del futuro e definiranno i passi concreti per raggiungerla.\n12:50: Take Away e wrap up dei nuovi Trend del mondo HR individuati\n13.00: Conclusioni \nREGISTRATI
URL:https://hrcigroup.com/evento/learning-development-trends-firenze-2/
CATEGORIES:HRC_TRENDS
ATTACH;FMTTYPE=image/jpeg:https://hrcigroup.com/wp-content/uploads/2026/02/Trends_2026.06.23_loghi.jpg
END:VEVENT
BEGIN:VEVENT
DTSTART;TZID=Europe/Rome:20260623T150000
DTEND;TZID=Europe/Rome:20260623T163000
DTSTAMP:20260425T181135
CREATED:20251007T102739Z
LAST-MODIFIED:20260315T053029Z
UID:3307-1782226800-1782232200@hrcigroup.com
SUMMARY:Supporto alla salute mentale e al benessere emotivo
DESCRIPTION:Supporto alla salute mentale e al benessere emotivoTeam di lavoro:\nSergio Comandè Q8 Italia\nAngela Colombo PwC Italia\nBeatrice Visconti SCM Group\nPietro Rizzi Camst Group\nValeria Fano Flutter SEA\nTelusHealth \nREGISTRATI
URL:https://hrcigroup.com/evento/supporto-alla-salute-mentale-e-al-benessere-emotivo/
CATEGORIES:HRC_SQUARE_COMM
ATTACH;FMTTYPE=image/jpeg:https://hrcigroup.com/wp-content/uploads/2025/10/HRCsquare_20260623-1.jpg
END:VEVENT
BEGIN:VEVENT
DTSTART;TZID=Europe/Rome:20260624T100000
DTEND;TZID=Europe/Rome:20260624T110000
DTSTAMP:20260425T181135
CREATED:20251007T102739Z
LAST-MODIFIED:20260315T053025Z
UID:3395-1782295200-1782298800@hrcigroup.com
SUMMARY:Rispondere invece che reagire
DESCRIPTION:Sotto pressione\, spesso acceleriamo\, sbagliamo\, rincorriamo il tempo. In questa giornata i partecipanti sperimentano quanto lo stress alteri la capacità di decidere e comunicare. Attraverso una nuova chiave di lettura delle priorità\, si apre lo spazio per una domanda scomoda: davvero reagire è sempre la scelta più rapida?Trainer: Antonio Genovesi\, Believer\, Walk of Life \nREGISTRATI
URL:https://hrcigroup.com/evento/rispondere-invece-che-reagire/
CATEGORIES:LS
ATTACH;FMTTYPE=image/jpeg:https://hrcigroup.com/wp-content/uploads/2025/10/LS_20260624-1.jpg
END:VEVENT
BEGIN:VEVENT
DTSTART;TZID=Europe/Rome:20260624T150000
DTEND;TZID=Europe/Rome:20260624T163000
DTSTAMP:20260425T181135
CREATED:20251007T102738Z
LAST-MODIFIED:20260315T053029Z
UID:3308-1782313200-1782318600@hrcigroup.com
SUMMARY:Intercettare i talenti emergenti: Università\, Challenge e Community come Nuove Frontiere
DESCRIPTION:Intercettare i talenti emergenti: Università\, Challenge e Community come Nuove FrontiereTeam di lavoro:\nAndrea Fabris e Jessica Pecoraro PwC Italia\nBeatrice Visconti SCM Group\nAgnese Cavalli Coca-Cola HBC Italia\nLivia Marmotta Birra Peroni\nSimona Turconi GEWISS\nCarmen D’amico Clementoni\nPerformanSe \nREGISTRATI
URL:https://hrcigroup.com/evento/intercettare-i-talenti-emergenti-universita-challenge-e-community-come-nuove-frontiere/
CATEGORIES:HRC_SQUARE_EMPLOYER
ATTACH;FMTTYPE=image/jpeg:https://hrcigroup.com/wp-content/uploads/2025/10/HRCsquare_20260624-1.jpg
END:VEVENT
BEGIN:VEVENT
DTSTART;TZID=Europe/Rome:20260625T100000
DTEND;TZID=Europe/Rome:20260625T110000
DTSTAMP:20260425T181135
CREATED:20251007T102740Z
LAST-MODIFIED:20260315T053025Z
UID:3396-1782381600-1782385200@hrcigroup.com
SUMMARY:Contro-azioni: il potere della scelta
DESCRIPTION:C’è un punto in cui la paura prende il timone. Ma non sempre deve andare così. Questa giornata propone una riflessione profonda su come trasformare l’impulso alla fuga o al blocco in una scelta attiva. I partecipanti esplorano nuovi modelli di azione\, scoprendo che anche sotto pressione\, è possibile scegliere chi essereTrainer: Antonio Genovesi\, Believer\, Walk of Life \nREGISTRATI
URL:https://hrcigroup.com/evento/contro-azioni-il-potere-della-scelta/
CATEGORIES:LS
ATTACH;FMTTYPE=image/jpeg:https://hrcigroup.com/wp-content/uploads/2025/10/LS_20260625.jpg
END:VEVENT
BEGIN:VEVENT
DTSTART;TZID=Europe/Rome:20260625T110000
DTEND;TZID=Europe/Rome:20260625T120000
DTSTAMP:20260425T181135
CREATED:20260220T100253Z
LAST-MODIFIED:20260315T053029Z
UID:3403-1782385200-1782388800@hrcigroup.com
SUMMARY:Competenze su larga scala: la prossima frontiera della formazione con Edflex
DESCRIPTION:Tutti sanno che la formazione dal vivo\, guidata da esperti\, è il gold standard per lo sviluppo delle competenze\, ma i suoi costi e la sua complessità ne rendono impossibile la scalabilità in un’intera organizzazione.\nDopo il successo della pratica basata sull’intelligenza artificiale\, Edflex si prepara a svelare la sua innovazione più significativa. Partecipa a una sessione live esclusiva in cui mostreremo come l’intelligenza artificiale stia finalmente colmando il divario tra scalabilità digitale e formazione a livello umano.\nScopri una nuova era di formazione che reagisce\, guida e allena ogni studente in tempo reale: colmando il divario tra conoscenza e prestazioni reali. \nREGISTRATI
URL:https://hrcigroup.com/evento/competenze-su-larga-scala-la-prossima-frontiera-della-formazione-con-edflex/
CATEGORIES:LIVE_DEMO
ATTACH;FMTTYPE=image/jpeg:https://hrcigroup.com/wp-content/uploads/2026/02/generica-4.jpg
END:VEVENT
BEGIN:VEVENT
DTSTART;TZID=Europe/Rome:20260625T150000
DTEND;TZID=Europe/Rome:20260625T163000
DTSTAMP:20260425T181135
CREATED:20251007T102740Z
LAST-MODIFIED:20260315T053029Z
UID:3309-1782399600-1782405000@hrcigroup.com
SUMMARY:Manager as a coach and mentor
DESCRIPTION:Manager as a coach and mentor Team di lavoro:\nAchille Lerro APM Terminals\nDavide Occhipinti Sanofi Italia\nAgata Cerra Kuehne+Nagel\nUgo Canonico Gruppo Hera\nAntonella Angelillo Coca-Cola HBC Italia\nRoberto Cacciatore Fidia\nLuca Gambetti E-quality \nREGISTRATI
URL:https://hrcigroup.com/evento/manager-as-a-coach-and-mentor/
CATEGORIES:HRC_SQUARE_LEARNING
ATTACH;FMTTYPE=image/jpeg:https://hrcigroup.com/wp-content/uploads/2025/10/HRCsquare_20260625-1.jpg
END:VEVENT
BEGIN:VEVENT
DTSTART;TZID=Europe/Rome:20260625T170000
DTEND;TZID=Europe/Rome:20260625T183000
DTSTAMP:20260425T181135
CREATED:20260220T100255Z
LAST-MODIFIED:20260315T053029Z
UID:3449-1782406800-1782412200@hrcigroup.com
SUMMARY:Cultura\, Benessere & Performance
DESCRIPTION:Future Skill & LeadershipIn presenza a Roma \nGuida ai lavori:\nGreta Autieri BAT \nRichiedi di partecipare scrivendo a Eleonora Pennacchiotti QUI \nREGISTRATI
URL:https://hrcigroup.com/evento/cultura-benessere-performance-2/
CATEGORIES:HRD_LEADERS
ATTACH;FMTTYPE=image/jpeg:https://hrcigroup.com/wp-content/uploads/2026/02/HRDLeaders_20260625.jpg
END:VEVENT
BEGIN:VEVENT
DTSTART;TZID=Europe/Rome:20260701T110000
DTEND;TZID=Europe/Rome:20260701T130000
DTSTAMP:20260425T181135
CREATED:20260220T100256Z
LAST-MODIFIED:20260315T053030Z
UID:3350-1782903600-1782910800@hrcigroup.com
SUMMARY:People Care\, Welfare & Wellbeing TRENDS - Milano
DESCRIPTION:11:00: WELCOME\n11:05: Sessione dedicata ad approfondire spunti di riflessioni raccolti e individuarne di nuovi\, grazie al contributo di autorevoli speaker e del technical partner \nFederica Fiore HALEON\nRosellina Panebianco TP\nAlessia Improta Coca-Cola HBC\nEDENRED \n12:00: PHYGITAL LAB in cui partecipanti online e in presenza\, tramite il modello dei Tre Orizzonti\, costruiranno una visione condivisa dei processi HR del futuro e definiranno i passi concreti per raggiungerla.\n12:50: Take Away e wrap up dei nuovi Trend del mondo HR individuati\n13.00: Conclusioni \nREGISTRATI
URL:https://hrcigroup.com/evento/people-care-welfare-wellbeing-trends-milano/
CATEGORIES:HRC_TRENDS
ATTACH;FMTTYPE=image/jpeg:https://hrcigroup.com/wp-content/uploads/2026/02/20260701_card_loghi.jpg
END:VEVENT
BEGIN:VEVENT
DTSTART;TZID=Europe/Rome:20260702T183000
DTEND;TZID=Europe/Rome:20260702T220000
DTSTAMP:20260425T181135
CREATED:20260220T100258Z
LAST-MODIFIED:20260315T053025Z
UID:3493-1783017000-1783029600@hrcigroup.com
SUMMARY:Relational Aperitif - 2 luglio 2026 - Roma
DESCRIPTION:Un appuntamento esclusivo dedicato ai manager e decision-maker della community che vogliono ampliare il proprio network in un contesto informale e raffinato. \nRichiedi di partecipare compilando il form QUI \nREGISTRATI
URL:https://hrcigroup.com/evento/relational-aperitif-2-luglio-2026-roma/
CATEGORIES:GRANDE_EVENTO
ATTACH;FMTTYPE=image/jpeg:https://hrcigroup.com/wp-content/uploads/2026/02/20260702_roma.jpg
END:VEVENT
BEGIN:VEVENT
DTSTART;TZID=Europe/Rome:20260707T183000
DTEND;TZID=Europe/Rome:20260707T220000
DTSTAMP:20260425T181135
CREATED:20260220T100259Z
LAST-MODIFIED:20260315T053025Z
UID:3494-1783449000-1783461600@hrcigroup.com
SUMMARY:Relational Aperitif - 7 luglio 2026 - Milano
DESCRIPTION:Un appuntamento esclusivo dedicato ai manager e decision-maker della community che vogliono ampliare il proprio network in un contesto informale e raffinato. \nRichiedi di partecipare compilando il form QUI \nREGISTRATI
URL:https://hrcigroup.com/evento/relational-aperitif-7-luglio-2026-milano/
CATEGORIES:GRANDE_EVENTO
ATTACH;FMTTYPE=image/jpeg:https://hrcigroup.com/wp-content/uploads/2026/02/20260707_milano.jpg
END:VEVENT
BEGIN:VEVENT
DTSTART;TZID=Europe/Rome:20260708T110000
DTEND;TZID=Europe/Rome:20260708T120000
DTSTAMP:20260425T181135
CREATED:20260220T100300Z
LAST-MODIFIED:20260315T053025Z
UID:3508-1783508400-1783512000@hrcigroup.com
SUMMARY:Live Demo - Altea
DESCRIPTION:Cooming Soon \nREGISTRATI
URL:https://hrcigroup.com/evento/live-demo-altea/
CATEGORIES:LIVE_DEMO
ATTACH;FMTTYPE=image/jpeg:https://hrcigroup.com/wp-content/uploads/2026/02/generica-5.jpg
END:VEVENT
BEGIN:VEVENT
DTSTART;TZID=Europe/Rome:20260910T173000
DTEND;TZID=Europe/Rome:20260910T223000
DTSTAMP:20260425T181135
CREATED:20260220T100303Z
LAST-MODIFIED:20260315T053025Z
UID:3360-1789061400-1789079400@hrcigroup.com
SUMMARY:Cerimonia Best HR Team
DESCRIPTION:La quarta edizione del Best HR Team\, il percorso di certificazione ideato da HRC Community\, si conferma come un punto di riferimento per la valorizzazione dell’innovazione e della collaborazione nei team HR. Un progetto che premia le risorse umane più virtuose\, capaci di generare valore attraverso iniziative orientate alla crescita del business\, all’aumento delle performance e al rafforzamento dell’engagement. \n La serata di celebrazione della quarta edizione del Best HR Team si terrà il 10 settembre 2026\, un momento esclusivo dedicato ai team HR più innovativi del panorama nazionale. Sarà l’occasione per condividere best practice\, ispirarsi alle esperienze più virtuose e vivere insieme una serata di networking\, riconoscimenti e visione sul futuro del lavoro. \nCANDIDATI PER LA NUOVA EDIZIONE  BHRT \nREGISTRATI
URL:https://hrcigroup.com/evento/cerimonia-best-hr-team/
CATEGORIES:GRANDE_EVENTO
ATTACH;FMTTYPE=image/jpeg:https://hrcigroup.com/wp-content/uploads/2026/02/card_BHRT.jpg
END:VEVENT
BEGIN:VEVENT
DTSTART;TZID=Europe/Rome:20260915T110000
DTEND;TZID=Europe/Rome:20260915T120000
DTSTAMP:20260425T181135
CREATED:20260220T100305Z
LAST-MODIFIED:20260315T053025Z
UID:3452-1789470000-1789473600@hrcigroup.com
SUMMARY:Live Demo 2026 - Skilla
DESCRIPTION:Cooming Soon \nREGISTRATI
URL:https://hrcigroup.com/evento/live-demo-2026-skilla/
CATEGORIES:LIVE_DEMO
ATTACH;FMTTYPE=image/jpeg:https://hrcigroup.com/wp-content/uploads/2026/02/generica-6.jpg
END:VEVENT
BEGIN:VEVENT
DTSTART;TZID=Europe/Rome:20260921T100000
DTEND;TZID=Europe/Rome:20260921T110000
DTSTAMP:20260425T181135
CREATED:20260220T100306Z
LAST-MODIFIED:20260315T053025Z
UID:3472-1789984800-1789988400@hrcigroup.com
SUMMARY:Dentro la complessità: scegliere nell'incertezza
DESCRIPTION:La prima sessione della settimana è una introduzione didattica ad alta interazione: sulla gestione della complessità\, di ecosistemi e di elementi a forte interdipendenza\, sull’importanza dei trade off\, sulle cosiddette “retroazioni”\, sul concetto di leadership saggia\, significato di saggezza vs intelligenza\, ratio vs intuito nella presa di decisioniTrainer:  Giulio Xhaet\, Partner & Head of Communication\, Newton Group  \nREGISTRATI
URL:https://hrcigroup.com/evento/dentro-la-complessita-scegliere-nellincertezza/
CATEGORIES:LS
ATTACH;FMTTYPE=image/jpeg:https://hrcigroup.com/wp-content/uploads/2026/02/LS_20260921.jpg
END:VEVENT
BEGIN:VEVENT
DTSTART;TZID=Europe/Rome:20260922T100000
DTEND;TZID=Europe/Rome:20260922T110000
DTSTAMP:20260425T181135
CREATED:20260220T100308Z
LAST-MODIFIED:20260315T053025Z
UID:3486-1790071200-1790074800@hrcigroup.com
SUMMARY:Decision Making & Complexity Management: The Cage Experience
DESCRIPTION:Fruizione online del prodotto di L&D The Cage\, un thriller psicologico: 12 prigionieri sono stati rinchiusi in un bunker da un carceriere\, e sottoposti a prove che mettono alla prova la capacità di leggere il contesto e relazionarsi con gli altri in situazioni stressanti e conflittuali. Riuscirai a liberarli\, prendendo le decisioni migliori?Trainer:  Giulio Xhaet\, Partner & Head of Communication\, Newton Group  \nREGISTRATI
URL:https://hrcigroup.com/evento/decision-making-complexity-management-the-cage-experience/
CATEGORIES:LS
ATTACH;FMTTYPE=image/jpeg:https://hrcigroup.com/wp-content/uploads/2026/02/LS_20260922.jpg
END:VEVENT
BEGIN:VEVENT
DTSTART;TZID=Europe/Rome:20260922T110000
DTEND;TZID=Europe/Rome:20260922T130000
DTSTAMP:20260425T181135
CREATED:20260220T100309Z
LAST-MODIFIED:20260315T053030Z
UID:3351-1790074800-1790082000@hrcigroup.com
SUMMARY:Equity\, Diversity & Inclusion TRENDS - Roma
DESCRIPTION:11:00: WELCOME\n11:05: Sessione dedicata ad approfondire spunti di riflessioni raccolti e individuarne di nuovi\, grazie al contributo di autorevoli speaker e del technical partner \nOPEN FIBER \n12:00: PHYGITAL LAB in cui partecipanti online e in presenza\, tramite il modello dei Tre Orizzonti\, costruiranno una visione condivisa dei processi HR del futuro e definiranno i passi concreti per raggiungerla.\n12:50: Take Away e wrap up dei nuovi Trend del mondo HR individuati\n13.00: Conclusioni \nREGISTRATI
URL:https://hrcigroup.com/evento/equity-diversity-inclusion-trends-roma/
CATEGORIES:HRC_TRENDS
ATTACH;FMTTYPE=image/jpeg:https://hrcigroup.com/wp-content/uploads/2026/02/20260922_card_logo_sponsor.jpg
END:VEVENT
BEGIN:VEVENT
DTSTART;TZID=Europe/Rome:20260923T100000
DTEND;TZID=Europe/Rome:20260923T110000
DTSTAMP:20260425T181135
CREATED:20260220T100311Z
LAST-MODIFIED:20260315T053025Z
UID:3487-1790157600-1790161200@hrcigroup.com
SUMMARY:Decision Making & Wise Leadership: Shed65 Experience
DESCRIPTION:Fruizione online del prodotto di L&D Shed65\, un’avventura distopica nel mondo prossimo futuro. Tu sei il 65esimo partecipante del programma Shed\, challenge mondiale per chi desidera diventare un leader guidato dalla saggezza\, in un futuro prossimo dove i leader non sono più in grado di governare la complessità e l’incertezza. Riuscirai a superare il livello del programma Shed?Trainer:  Giulio Xhaet\, Partner & Head of Communication\, Newton Group  \nREGISTRATI
URL:https://hrcigroup.com/evento/decision-making-wise-leadership-shed65-experience/
CATEGORIES:LS
ATTACH;FMTTYPE=image/jpeg:https://hrcigroup.com/wp-content/uploads/2026/02/LS_20260923.jpg
END:VEVENT
BEGIN:VEVENT
DTSTART;TZID=Europe/Rome:20260924T100000
DTEND;TZID=Europe/Rome:20260924T110000
DTSTAMP:20260425T181135
CREATED:20260220T100313Z
LAST-MODIFIED:20260315T053025Z
UID:3488-1790244000-1790247600@hrcigroup.com
SUMMARY:Decision Making & Communication Skill: Dedalus Experience
DESCRIPTION:Fruizione online del prodotto di L&D Shed65\, un macrocosmo di storie con generi tutti diversi tra loro. Dedalus allena le abilità di comunicazione\, e in particolare il talento a interagire con le altre persone. L’obiettivo è espandere il talento a comunicare in circostanze molto diverse\, mettendo alla prova 4 capacità specifiche: persuasione\, feedback\, gestione dei conflitti e creazione di sintoniaTrainer:  Giulio Xhaet\, Partner & Head of Communication\, Newton Group  \nREGISTRATI
URL:https://hrcigroup.com/evento/decision-making-communication-skill-dedalus-experience/
CATEGORIES:LS
ATTACH;FMTTYPE=image/jpeg:https://hrcigroup.com/wp-content/uploads/2026/02/LS_20260924.jpg
END:VEVENT
BEGIN:VEVENT
DTSTART;TZID=Europe/Rome:20260928T100000
DTEND;TZID=Europe/Rome:20260928T110000
DTSTAMP:20260425T181135
CREATED:20260220T100314Z
LAST-MODIFIED:20260315T053030Z
UID:3473-1790589600-1790593200@hrcigroup.com
SUMMARY:Reputazione che parla: cos’è davvero l’Employer Branding (e come misurarlo)
DESCRIPTION:Da dove arriva la reputazione di un’azienda e perché non è mai un concetto astratto? Leggeremo insieme l’Employer Branding come un insieme di percezioni che si possono osservare\, misurare e orientare. Capiremo quali segnali costruiscono fiducia\, quali la indeboliscono e come usare i dati per leggere il punto di vista dei talentiTrainer:   \nREGISTRATI
URL:https://hrcigroup.com/evento/reputazione-che-parla-cose-davvero-lemployer-branding-e-come-misurarlo/
CATEGORIES:LS
ATTACH;FMTTYPE=image/jpeg:https://hrcigroup.com/wp-content/uploads/2026/02/LS_20260928.jpg
END:VEVENT
END:VCALENDAR